BEGIN:VCALENDAR
VERSION:2.0
PRODID:-//https://eruuf.org///NONSGML kigkonsult.se iCalcreator 2.10.15//
METHOD:PUBLISH
BEGIN:VEVENT
UID:20260421T230536UTC-9523bNErvV@https://eruuf.org/
DTSTAMP:20260421T230536Z
DESCRIPTION:Class with the Minister\nLife is full of situations that pull u
 s off center. What helps you to connect and center? There are practical ex
 ercises that can enable us to respond and reset in the face of everything 
 going on in the world. The capacity to self-regulate\, in a healthy way\, 
 is one of the most important life skills we can learn. In this three-week 
 class we will engage practices to activate our inner compass\, the part wi
 thin our being that guides us to a place of greater knowing\, greater givi
 ng\, and greater peace.\nRegister Here https://eruuf.org/calendar/calendar
 -events/event/15491-class-with-the-minister.html
DTSTART:20251105T170000Z
DTEND:20251105T181500Z
LOCATION:Fellowship Hall   ()
SUMMARY:Class with the Minister: The Practice of Centering - Simple Pathway
 s for Enriching Your Life
URL:https://eruuf.org/calendar/calendar-events/event/15491-class-with-the-m
 inister.html
END:VEVENT
END:VCALENDAR
