BEGIN:VCALENDAR
VERSION:2.0
PRODID:-//https://eruuf.org///NONSGML kigkonsult.se iCalcreator 2.10.15//
METHOD:PUBLISH
BEGIN:VEVENT
UID:20260419T131110UTC-3872O8sjod@https://eruuf.org/
DTSTAMP:20260419T131110Z
DESCRIPTION:Join the Trans @ ERUUF group for conversations on the trans and
  nonbinary experience both at ERUUF and in the larger world.\nFor more inf
 ormation\, please email trans@eruuf.org. https://eruuf.org/calendar/calend
 ar-events/event/16060-trans-eruuf.html
DTSTART:20260920T163000Z
DTEND:20260920T180000Z
LOCATION:Room 3 - CARE Building ()
SUMMARY:Trans @ ERUUF
URL:https://eruuf.org/calendar/calendar-events/event/16060-trans-eruuf.html
END:VEVENT
END:VCALENDAR
