BEGIN:VCALENDAR
VERSION:2.0
PRODID:-//https://eruuf.org///NONSGML kigkonsult.se iCalcreator 2.10.15//
METHOD:PUBLISH
BEGIN:VEVENT
UID:20260420T124958UTC-5599zDWhlD@https://eruuf.org/
DTSTAMP:20260420T124958Z
DESCRIPTION:Join us for an informal service of readings and prayers.\nConta
 ct us at christianfellowship@eruuf.org for more information. https://eruuf
 .org/calendar/calendar-events/event/16166-eruuf-christian-fellowship-meeti
 ng.html
DTSTART:20260811T230000Z
DTEND:20260812T013000Z
LOCATION:Room 3 - CARE Building ()
SUMMARY:ERUUF Christian Fellowship Meeting
URL:https://eruuf.org/calendar/calendar-events/event/16166-eruuf-christian-
 fellowship-meeting.html
END:VEVENT
END:VCALENDAR
