BEGIN:VCALENDAR
VERSION:2.0
PRODID:-//https://eruuf.org///NONSGML kigkonsult.se iCalcreator 2.10.15//
METHOD:PUBLISH
BEGIN:VEVENT
UID:20260422T020611UTC-2893jUN27I@https://eruuf.org/
DTSTAMP:20260422T020611Z
DESCRIPTION:Join us for an informal service of readings and prayers.\nConta
 ct us at christianfellowship@eruuf.org for more information. https://eruuf
 .org/calendar/calendar-events/event/16175-eruuf-christian-fellowship-meeti
 ng.html
DTSTART:20270511T230000Z
DTEND:20270512T013000Z
LOCATION:Room 3 - CARE Building ()
SUMMARY:ERUUF Christian Fellowship Meeting
URL:https://eruuf.org/calendar/calendar-events/event/16175-eruuf-christian-
 fellowship-meeting.html
END:VEVENT
END:VCALENDAR
