BEGIN:VCALENDAR
VERSION:2.0
PRODID:-//https://eruuf.org///NONSGML kigkonsult.se iCalcreator 2.10.15//
METHOD:PUBLISH
BEGIN:VEVENT
UID:20260424T004933UTC-2230WGXz6R@https://eruuf.org/
DTSTAMP:20260424T004933Z
DESCRIPTION:Movie screening and discussion to follow.\nMore details to come
 . For information\, please contact the Protecting the Seperation of Church
  and State Group. https://eruuf.org/calendar/calendar-events/event/16217-p
 rotecting-separation-of-church-and-state.html
DTSTART:20261004T200000Z
DTEND:20261004T223000Z
LOCATION:Sanctuary - ERUUF   (4907 Garrett Road\, Durham\, NC 27707  )
SUMMARY:Protecting Separation of Church and State
URL:https://eruuf.org/calendar/calendar-events/event/16217-protecting-separ
 ation-of-church-and-state.html
END:VEVENT
END:VCALENDAR
