BEGIN:VCALENDAR
VERSION:2.0
PRODID:-//https://eruuf.org///NONSGML kigkonsult.se iCalcreator 2.10.15//
METHOD:PUBLISH
BEGIN:VEVENT
UID:20260420T104122UTC-88819XN4af@https://eruuf.org/
DTSTAMP:20260420T104122Z
DESCRIPTION:Join us for games night on Friday\, April 24 at 7:00 PM in the 
 ERUUF Commons Room. All are welcome (LGBTQ+ and allies).\nBring your own b
 oard or card games\, drinks (no alcohol please) and snacks.\nFor more info
 rmation\, please contact the Pride+ Group. \n  https://eruuf.org/calendar/
 calendar-events/event/16228-pride-games-night.html
DTSTART:20260424T230000Z
DTEND:20260425T010000Z
LOCATION:Commons Room   (4907 Garrett Rd\, Durham\, NC 27707  )
SUMMARY:Pride+ Games Night
URL:https://eruuf.org/calendar/calendar-events/event/16228-pride-games-nigh
 t.html
END:VEVENT
END:VCALENDAR
