BEGIN:VCALENDAR
VERSION:2.0
PRODID:-//https://eruuf.org///NONSGML kigkonsult.se iCalcreator 2.10.15//
METHOD:PUBLISH
BEGIN:VEVENT
UID:20260421T031532UTC-68747iZlh9@https://eruuf.org/
DTSTAMP:20260421T031532Z
DESCRIPTION:Tuesday\, May 5 is ERUUF’s evening to prepare and serve a meal 
 at Families Moving Forward\, Durham’s shelter for families experiencing ho
 melessness. We will prepare and serve a meal of turkey chili\, cornbread\,
  a veggie tray\, fresh fruit\, and dessert for 18\, including both adults 
 and children. Dinner happens between 5 and 6 pm. Volunteer to bring some f
 ood and some smiles to folks at Families Moving Forward!\nSign Up Here htt
 ps://eruuf.org/calendar/calendar-events/event/16235-families-moving-forwar
 d.html
DTSTART:20260505T210000Z
DTEND:20260505T220000Z
LOCATION:Offsite ()
SUMMARY:Families Moving Forward
URL:https://eruuf.org/calendar/calendar-events/event/16235-families-moving-
 forward.html
END:VEVENT
END:VCALENDAR
