BEGIN:VCALENDAR
VERSION:2.0
PRODID:-//https://eruuf.org///NONSGML kigkonsult.se iCalcreator 2.10.15//
METHOD:PUBLISH
BEGIN:VEVENT
UID:20260423T234111UTC-1896OCP4pa@https://eruuf.org/
DTSTAMP:20260423T234111Z
DESCRIPTION:North Carolina Poet Laureate Jaki Shelton Green will facilitate
  a creativity salon focused on What We Keep Keeps Us: Exploring Our Human 
 Museums. As we think of ourselves as our own curators or personal anthropo
 logists\, we will explore what's in our human museums and how these primar
 y sources shape our lives\, our values\, and our creativity.\nWorkshop par
 ticipants are invited to bring artifacts\, photos\, objects\, heirlooms\, 
 or stories that hold special meaning for them. This session will include a
  writing exercise and discussion that examines the many narratives\, memoi
 rs\, short stories\, poems\, novels\, and legacies that are hidden in full
  sight...just waiting to be written.\nWe ask that you bring your own lunch
  to enjoy. \nClick Here to Register! https://eruuf.org/calendar/calendar-v
 iew/event/15377-jake-shelton-greene-building-our-human-museum-artist-in-re
 sidence-program-workshop.html
DTSTART:20260328T130000Z
DTEND:20260328T190000Z
LOCATION:ERUUF Fellowship Hall (4907 Garrett Road)
SUMMARY:Artist-in-Residence Workshop: Building Our Human Museum
URL:https://eruuf.org/calendar/calendar-view/event/15377-jake-shelton-green
 e-building-our-human-museum-artist-in-residence-program-workshop.html
END:VEVENT
BEGIN:VEVENT
UID:20260423T234111UTC-1898NJL8BB@https://eruuf.org/
DTSTAMP:20260423T234111Z
DESCRIPTION:The Showing Up for Democracy group invites you to join us in so
 lidarity to march together at the March 28 No Kings Rally in Durham. Stop 
 by our table this Sunday\, March 22 at Coffee Hour to sign up.\nTo sign up
  or get more information\, email Standing Up for Democracy. https://eruuf.
 org/calendar/calendar-view/event/16215-showing-up-for-democracy-no-kings-r
 ally.html
DTSTART:20260328T143000Z
DTEND:20260328T153000Z
LOCATION:Offsite ()
SUMMARY:Showing Up for Democracy: No Kings Rally
URL:https://eruuf.org/calendar/calendar-view/event/16215-showing-up-for-dem
 ocracy-no-kings-rally.html
END:VEVENT
END:VCALENDAR
