BEGIN:VCALENDAR
VERSION:2.0
PRODID:-//https://eruuf.org///NONSGML kigkonsult.se iCalcreator 2.10.15//
METHOD:PUBLISH
BEGIN:VEVENT
UID:20260420T014856UTC-3879Td1zfE@https://eruuf.org/
DTSTAMP:20260420T014856Z
DESCRIPTION:On Saturday\, April 11\, from 10am to noon we will be continuin
 g our spring garden clean-up including weeding\, mulching and pruning. Mee
 t at the breezeway at 10:00 am to pick-up tools.\nWe welcome Chalice Circl
 es and Covenant groups looking to complete service projects. \nFor more in
 formation\, please contact the Garden Team. https://eruuf.org/calendar/cal
 endar-view/event/14657-gardening-saturday.html
DTSTART:20260411T130000Z
DTEND:20260411T160000Z
LOCATION:ERUUF Campus   (4907 Garrett Rd\, Durham\, NC 27707    )
SUMMARY:Gardening Saturday
URL:https://eruuf.org/calendar/calendar-view/event/14657-gardening-saturday
 .html
END:VEVENT
BEGIN:VEVENT
UID:20260420T014856UTC-38804s991n@https://eruuf.org/
DTSTAMP:20260420T014856Z
DESCRIPTION:The Clickers community meeting to work on assembly and distribu
 tion of items\, teaching knitting\, crocheting skills\, community interact
 ion.\nFor more information\, reach out to the Clickers group.\nTo stay up 
 to date with all things ERUUF\, subscribe to our weekly E-News. https://er
 uuf.org/calendar/calendar-view/event/15171-clicking-for-a-cause.html
DTSTART:20260411T140000Z
DTEND:20260411T160000Z
LOCATION:CARE Building\, Room 4/5 (4907 Garrett Road)
SUMMARY:Clicking for a Cause
URL:https://eruuf.org/calendar/calendar-view/event/15171-clicking-for-a-cau
 se.html
END:VEVENT
BEGIN:VEVENT
UID:20260420T014856UTC-38819jo9zD@https://eruuf.org/
DTSTAMP:20260420T014856Z
DESCRIPTION:Put on your dancing shoes\, bring your kids\, and get on the da
 nce floor as we dance to music from ERUUF's founding in 1966 to the presen
 t. Whether it's the Boogaloo\, the Hustle\, Moonwalk\, or just your own sp
 ecial moves we want to come together and have a good time! Spectators welc
 ome as well. Come dressed as your favorite decade! Food and drinks will be
  provided. Pizza and drinks included.\nRSVP Here https://eruuf.org/calenda
 r/calendar-view/event/16196-dance-the-decades.html
DTSTART:20260411T210000Z
DTEND:20260411T230000Z
LOCATION:Fellowship Hall   ()
SUMMARY:Dance the Decades
URL:https://eruuf.org/calendar/calendar-view/event/16196-dance-the-decades.
 html
END:VEVENT
END:VCALENDAR
