BEGIN:VCALENDAR
VERSION:2.0
PRODID:-//https://eruuf.org///NONSGML kigkonsult.se iCalcreator 2.10.15//
METHOD:PUBLISH
BEGIN:VEVENT
UID:20260425T132546UTC-9398i5rzIF@https://eruuf.org/
DTSTAMP:20260425T132546Z
DESCRIPTION:Nonreligious Humanism\nAt our April meetings\, we will be discu
 ssing Maria Greene’s essay “Nonreligious Humanism” in 'Humanist Voices in 
 Unitarian Universalism'. Central to her essay seems to be the question of 
 whether nonreligious people really belong in Unitarian Universalism -- whe
 ther they are equally respected and welcomed or whether they are treated a
 s second-class citizens by their congregations and/or the UUA. Greene has 
 clearly had some difficult moments expressing her nonreligious cosmology i
 n her UU community. She specifically mentions being considered narrow-mind
 ed\, unimaginative\, and spiritually immature. What is your experience at 
 ERUUF and the larger UU community? We have permission to make paper copies
  of the essay but not to share electronically\, so there are copies availa
 ble in the ERUUF office in the 'pick-up' mailbox. Stop by and pick one up 
 soon so you have a chance to read it before the meeting. Please email nont
 heist@eruuf.org if you take the next to last one so we can replenish the s
 upply\, and if getting to ERUUF is a hardship so we can mail a copy to you
 .\nFor more information\, please reach out to the Nontheist Group.  https:
 //eruuf.org/calendar/calendar-view/event/15244-nontheist-group.html
DTSTART:20260412T170000Z
DTEND:20260412T183000Z
LOCATION:ERUUF Commons Room (4907 Garrett Road)
SUMMARY:Nontheist Group
URL:https://eruuf.org/calendar/calendar-view/event/15244-nontheist-group.ht
 ml
END:VEVENT
BEGIN:VEVENT
UID:20260425T132546UTC-94003L8v0H@https://eruuf.org/
DTSTAMP:20260425T132546Z
DESCRIPTION:The Inquirers Series is offered each Sunday morning to welcome 
 and inform visitors and friends about ERUUF. You will converse with minist
 ers\, staff\, and lay leaders as you learn about ERUUF’s values\, culture\
 , and ministries\, along with basics about Unitarian Universalism. Eight t
 opics are covered\, one per session\, and then repeated throughout the yea
 r. Twice a year\, we hold an all-class Saturday Retreat.\nExisting members
  are also welcome! \nFor a full Inquirers Series schedule for the year\, p
 lease click this link. \nContact the Inquirers Team and check out ERUUF's 
 weekly E-News for more information! \nInquirers Classes are meeting both i
 n-person (Commons Room of the CARE Building) and online (Zoom). \nJoin onl
 ine via the link below.\nJoin Zoom Meeting\n Meeting ID: 946 1651 6649Pass
 code: 028157 https://eruuf.org/calendar/calendar-view/event/15613-inquirer
 s-series.html
DTSTART:20260412T140000Z
DTEND:20260412T145000Z
LOCATION:Commons Room   (4907 Garrett Rd\, Durham\, NC 27707  )
SUMMARY:Inquirers Series
URL:https://eruuf.org/calendar/calendar-view/event/15613-inquirers-series.h
 tml
END:VEVENT
BEGIN:VEVENT
UID:20260425T132546UTC-9402uD9tpI@https://eruuf.org/
DTSTAMP:20260425T132546Z
DESCRIPTION:The 9:00 am - 10:00 am service is our contemplative\, more quie
 t service.\nMasks are optional for in-person attendance by congregants and
  participants. \nFor more information about service each week\, subscribe 
 to our weekly E-News.  https://eruuf.org/calendar/calendar-view/event/1564
 6-sunday-service-9am.html
DTSTART:20260412T130000Z
DTEND:20260412T135000Z
LOCATION:Sanctuary - ERUUF   (4907 Garrett Road\, Durham\, NC 27707  )
SUMMARY:Sunday Service (9am)
URL:https://eruuf.org/calendar/calendar-view/event/15646-sunday-service-9am
 .html
END:VEVENT
BEGIN:VEVENT
UID:20260425T132546UTC-9403NZkozt@https://eruuf.org/
DTSTAMP:20260425T132546Z
DESCRIPTION:The 11:00 am – 12:10 pm service will offer a more traditional-s
 tyle service.\nWe welcome you to attend in-person or online. The service w
 ill be livestreamed on YouTube and Facebook Live.\nMasks are optional for 
 in-person attendance by congregants and participants.\nFor more informatio
 n about the service\, subscribe to our weekly E-News.  https://eruuf.org/c
 alendar/calendar-view/event/15681-sunday-service-11am.html
DTSTART:20260412T150000Z
DTEND:20260412T161000Z
LOCATION:Sanctuary - ERUUF   (4907 Garrett Road\, Durham\, NC 27707  )
SUMMARY:Sunday Service (11am)
URL:https://eruuf.org/calendar/calendar-view/event/15681-sunday-service-11a
 m.html
END:VEVENT
BEGIN:VEVENT
UID:20260425T132546UTC-9404ZvJfrt@https://eruuf.org/
DTSTAMP:20260425T132546Z
DESCRIPTION:Are you in Grades K - 3 and want to join the Sunshine Kids? Joi
 n us starting Sun.\, Sept. 7 between services.\nFor more information\, ple
 ase email sunshinekids@eruuf.org. https://eruuf.org/calendar/calendar-view
 /event/15795-sunshine-kids-choir-rehearsal.html
DTSTART:20260412T141500Z
DTEND:20260412T144500Z
LOCATION:ERUUF Campus   (4907 Garrett Rd\, Durham\, NC 27707    )
SUMMARY:Sunshine Kids Choir Rehearsal
URL:https://eruuf.org/calendar/calendar-view/event/15795-sunshine-kids-choi
 r-rehearsal.html
END:VEVENT
BEGIN:VEVENT
UID:20260425T132546UTC-9405KbApSv@https://eruuf.org/
DTSTAMP:20260425T132546Z
DESCRIPTION:Are you in Grades 4-8 and would like to participate in the Chal
 ice Singers? Join us starting Sun.\, Sept. 7 between services!\nFor more i
 nformation\, email chalicesingers@eruuf.org.  https://eruuf.org/calendar/c
 alendar-view/event/15829-chalice-singers-choir-rehearsal.html
DTSTART:20260412T141500Z
DTEND:20260412T145000Z
LOCATION:ERUUF Campus   (4907 Garrett Rd\, Durham\, NC 27707    )
SUMMARY:Chalice Singers Choir Rehearsal
URL:https://eruuf.org/calendar/calendar-view/event/15829-chalice-singers-ch
 oir-rehearsal.html
END:VEVENT
BEGIN:VEVENT
UID:20260425T132546UTC-94053GmWmU@https://eruuf.org/
DTSTAMP:20260425T132546Z
DESCRIPTION:Welcome high schoolers!\n \nWe invite any youth in 9-12th grade
 s to join us for youth group.\nLunch will be provided\, then advisors will
  lead the group in ritual\, games\, discussion\, activities\, and much mor
 e. We also have occasional off-campus trips and 'lock-ins' (sleepovers at 
 the church).\n \nAll youth must complete the Youth Permission Form with a 
 guardian before attending such activities.\nFor more information about our
  youth programming\, reach out to Moritz (kmoritz@eruuf.org) to be added t
 o our HSYG email list.  https://eruuf.org/calendar/calendar-view/event/160
 02-high-school-youth-group-hsyg.html
DTSTART:20260412T163000Z
DTEND:20260412T180000Z
LOCATION:ERUUF Campus   (4907 Garrett Rd\, Durham\, NC 27707    )
SUMMARY:High School Youth Group (HSYG)
URL:https://eruuf.org/calendar/calendar-view/event/16002-high-school-youth-
 group-hsyg.html
END:VEVENT
BEGIN:VEVENT
UID:20260425T132546UTC-9407EUV5u3@https://eruuf.org/
DTSTAMP:20260425T132546Z
DESCRIPTION:Death Cafe is an Adult Program under Pastoral Care.\nDeath Cafe
 s are spaces for people to gather and talk about death\, shifting fear and
  nervousness around the topic to acceptance and familiarity. Bring your lu
 nch and join others in conversation.\nRegistration encouraged as it helps 
 us plan better.\nPlease note that a Death Cafe does not offer grief suppor
 t. If you are in need of grief support\, please contact Rev. Jim Lewis to 
 meet one-on-one or for resources surrounding support for grief.\nRSVP Here
 \n \n \nFor more information\, reach out to the Adult Programs Team.  http
 s://eruuf.org/calendar/calendar-view/event/16017-death-cafe-talking-and-li
 stening-circle.html
DTSTART:20260412T170000Z
DTEND:20260412T183000Z
LOCATION:Chapel - ERUUF Sanctuary (4907 Garrett Rd\, Durham\, NC 27707\, US
 A)
SUMMARY:Death Cafe - Talking and Listening Circle
URL:https://eruuf.org/calendar/calendar-view/event/16017-death-cafe-talking
 -and-listening-circle.html
END:VEVENT
BEGIN:VEVENT
UID:20260425T132546UTC-9408nvVtuU@https://eruuf.org/
DTSTAMP:20260425T132546Z
DESCRIPTION:Bring a dish to share\, and a story to tell. This month's topic
  is 'Unsung Heroes.' Tell us about someone who's had a big impact on your 
 life\, or maybe a time when you stepped in to be that hero.\nFor more info
 rmation\, contact Activities with ERUUFians. https://eruuf.org/calendar/ca
 lendar-view/event/16229-awe-potluck-chat-and-chew.html
DTSTART:20260412T210000Z
DTEND:20260412T230000Z
LOCATION:Fellowship Hall   ()
SUMMARY:AWE Potluck Chat and Chew
URL:https://eruuf.org/calendar/calendar-view/event/16229-awe-potluck-chat-a
 nd-chew.html
END:VEVENT
BEGIN:VEVENT
UID:20260425T132546UTC-9409Z3EPEU@https://eruuf.org/
DTSTAMP:20260425T132546Z
DESCRIPTION:Big THANKS to everyone who donated food in March and to the RE 
 youth who helped sort the different varieties of proteins into boxes for d
 elvery to the Emanuel Food Pantry. The partneship between the Muticultural
  Team and RE is an ongoing initiative to help address food insecurity in D
 urham.\nOn Sunday\, April 12\, we will be collecting hot/cold breakfast ce
 reals.\nFor more information\, please contact the Multicultural Team. http
 s://eruuf.org/calendar/calendar-view/event/16230-emanuel-food-pantry-colle
 ction.html
DTSTART:20260412T130000Z
DTEND:20260412T170000Z
LOCATION:ERUUF Office ()
SUMMARY:Emanuel Food Pantry Collection
URL:https://eruuf.org/calendar/calendar-view/event/16230-emanuel-food-pantr
 y-collection.html
END:VEVENT
END:VCALENDAR
