BEGIN:VCALENDAR
VERSION:2.0
PRODID:-//https://eruuf.org///NONSGML kigkonsult.se iCalcreator 2.10.15//
METHOD:PUBLISH
BEGIN:VEVENT
UID:20260424T030236UTC-7077uePiJ7@https://eruuf.org/
DTSTAMP:20260424T030236Z
DESCRIPTION:All are welcome! The BCC focuses on music of the Black diaspora
  in the U.S. and celebrates the oral tradition. \nFor more information\, e
 mail Music Director\, Wendy Looker. https://eruuf.org/calendar/calendar-vi
 ew/event/15216-beloved-community-chorus-rehearsal.html
DTSTART:20260414T230000Z
DTEND:20260415T003000Z
LOCATION:ERUUF Commons Room (4907 Garrett Road)
SUMMARY:Beloved Community Chorus Rehearsal
URL:https://eruuf.org/calendar/calendar-view/event/15216-beloved-community-
 chorus-rehearsal.html
END:VEVENT
BEGIN:VEVENT
UID:20260424T030236UTC-7078Bam3RD@https://eruuf.org/
DTSTAMP:20260424T030236Z
DESCRIPTION:The Heart of Justice Song Circle is a lay-led\, ERUUF music gro
 up. We learn songs mostly by call and response in the oral tradition. Musi
 cal styles range from folk to gospel to justice songs and beyond. We sing 
 songs that envision a world closely aligned with UU values\, centering lov
 e and calling for justice. Regardless of singing experience\, all ERUUF me
 mbers and friends are welcome to join us as we build community\, transform
 ing lives and nourishing spirits through song.\nFor more information\, ple
 ase contact the Heart of Justice Song Circle. https://eruuf.org/calendar/c
 alendar-view/event/16135-heart-of-justice-song-circle.html
DTSTART:20260414T230000Z
DTEND:20260415T003000Z
LOCATION:Commons Room   (4907 Garrett Rd\, Durham\, NC 27707  )
SUMMARY:Heart of Justice Song Circle  
URL:https://eruuf.org/calendar/calendar-view/event/16135-heart-of-justice-s
 ong-circle.html
END:VEVENT
BEGIN:VEVENT
UID:20260424T030236UTC-7079puZmwV@https://eruuf.org/
DTSTAMP:20260424T030236Z
DESCRIPTION:Join us for our quarterly Communion Service - a simple service 
 of sharing bread and wine (or grape juice) in memory of Jesus and his mini
 stry. We will also continue our discussion of religious historian Elaine P
 agels' 'Miracles and Wonder' with Chapter 3 (What is the Good News? How th
 e Message of 'God's Kingdom' Morphs into 'Jesus Is God!'). But don't worry
  if you haven't read the book!\nContact us at christianfellowship@eruuf.or
 g for more information. https://eruuf.org/calendar/calendar-view/event/161
 62-eruuf-christian-fellowship-meeting.html
DTSTART:20260414T230000Z
DTEND:20260415T003000Z
LOCATION:Room 3 - CARE Building ()
SUMMARY:ERUUF Christian Fellowship Meeting
URL:https://eruuf.org/calendar/calendar-view/event/16162-eruuf-christian-fe
 llowship-meeting.html
END:VEVENT
END:VCALENDAR
