BEGIN:VCALENDAR
VERSION:2.0
PRODID:-//https://eruuf.org///NONSGML kigkonsult.se iCalcreator 2.10.15//
METHOD:PUBLISH
BEGIN:VEVENT
UID:20260420T092204UTC-9165eNvUxu@https://eruuf.org/
DTSTAMP:20260420T092204Z
DESCRIPTION:Learn the fundamentals of Tai Chi with relaxing and energizing 
 exercises. We will 'move to feel'\, learn that 'less is more' and explore 
 yin and yang in action. Classes will be outside when weather permits. Clas
 s taught by Nancy Couts.\nFor more information\, please send an email to N
 ancy Couts.  https://eruuf.org/calendar/calendar-view/event/15423-tai-chi-
 for-health-and-wellbeing.html
DTSTART:20260415T180000Z
DTEND:20260415T190000Z
LOCATION:ERUUF Fellowship Hall (4907 Garrett Road)
SUMMARY:Tai Chi for Health and Wellbeing
URL:https://eruuf.org/calendar/calendar-view/event/15423-tai-chi-for-health
 -and-wellbeing.html
END:VEVENT
BEGIN:VEVENT
UID:20260420T092204UTC-9166rgFpc6@https://eruuf.org/
DTSTAMP:20260420T092204Z
DESCRIPTION:An evening for learning and conversation with ERUUF’s Minister 
 Emeritus and Minister Emerita\, who will look back on the past and also in
 vite us to imagine possibilities for ERUUF’s future as a community.\nRSVP 
 Here\n Go to ERUUF YouTube Channel\nView Livestream https://eruuf.org/cale
 ndar/calendar-view/event/15895-talk-with-rev-dr-arvid-straube.html
DTSTART:20260415T220016Z
DTEND:20260415T233016Z
LOCATION:Sanctuary - ERUUF   (4907 Garrett Road\, Durham\, NC 27707  )
SUMMARY:An Evening with Rev. Arvid Straube & Rev. Deborah Cayer
URL:https://eruuf.org/calendar/calendar-view/event/15895-talk-with-rev-dr-a
 rvid-straube.html
END:VEVENT
BEGIN:VEVENT
UID:20260420T092204UTC-916793J1fN@https://eruuf.org/
DTSTAMP:20260420T092204Z
DESCRIPTION:As we celebrate ERUUF’s 60th anniversary\, let’s plan for our c
 oming Seniors Group meeting on Wednesday April 15th to share ways that our
  association with Unitarian Universalism over the past 60 years\, at ERUUF
  or at U-U churches elsewhere\, has had a positive influence on our lives.
 \nFor more information\, email the Seniors Group. https://eruuf.org/calend
 ar/calendar-view/event/15964-eruuf-seniors-group.html
DTSTART:20260415T170000Z
DTEND:20260415T183000Z
LOCATION:Chapel   ()
SUMMARY:ERUUF Seniors Group
URL:https://eruuf.org/calendar/calendar-view/event/15964-eruuf-seniors-grou
 p.html
END:VEVENT
END:VCALENDAR
