BEGIN:VCALENDAR
VERSION:2.0
PRODID:-//https://eruuf.org///NONSGML kigkonsult.se iCalcreator 2.10.15//
METHOD:PUBLISH
BEGIN:VEVENT
UID:20260422T054540UTC-5742mTPVe2@https://eruuf.org/
DTSTAMP:20260422T054540Z
DESCRIPTION:Join us as we share stitching with fiber and other forms of cre
 ativity as a spiritual practice.\nFor more information\, email the Spiritu
 al Threads Group or check out the website. https://eruuf.org/calendar/cale
 ndar-view/event/16089-spiritual-threads.html
DTSTART:20260418T133028Z
DTEND:20260418T163028Z
LOCATION:CARE Building\, Room 4/5 (4907 Garrett Road)
SUMMARY:Spiritual Threads
URL:https://eruuf.org/calendar/calendar-view/event/16089-spiritual-threads.
 html
END:VEVENT
BEGIN:VEVENT
UID:20260422T054540UTC-5743kvDtfe@https://eruuf.org/
DTSTAMP:20260422T054540Z
DESCRIPTION:An Anniversary celebration dinner featuring small-plate service
  and beverages\,\nfollowed by a concert with vocalist and recording artist
  Melanie DeMore.\nChildren will be treated to a meal and two Mad Science W
 orkshops – One for preschool through kindergarten-age children (Mad Mixtur
 es)\, and one for 1st through 5th grade children (Detective Science).\nChi
 ldcare for young children is also available. \nRSVP Here\nMelanie DeMore C
 oncert (6:30-8:00 pm) In-person and Livestream:\n Go to ERUUF YouTube Chan
 nel\nView Livestream https://eruuf.org/calendar/calendar-view/event/16197-
 60th-anniversary-gala.html
DTSTART:20260418T203000Z
DTEND:20260419T000000Z
LOCATION:Fellowship Hall and Sanctuary ()
SUMMARY:60th Anniversary Gala
URL:https://eruuf.org/calendar/calendar-view/event/16197-60th-anniversary-g
 ala.html
END:VEVENT
END:VCALENDAR
