BEGIN:VCALENDAR
VERSION:2.0
PRODID:-//https://eruuf.org///NONSGML kigkonsult.se iCalcreator 2.10.15//
METHOD:PUBLISH
BEGIN:VEVENT
UID:20260423T142644UTC-9913XmKons@https://eruuf.org/
DTSTAMP:20260423T142644Z
DESCRIPTION:The 9:00 am - 10:00 am service is our contemplative\, more quie
 t service.\nMasks are optional for in-person attendance by congregants and
  participants. \nFor more information about service each week\, subscribe 
 to our weekly E-News.  https://eruuf.org/calendar/calendar-view/event/1564
 7-sunday-service-9am.html
DTSTART:20260419T130000Z
DTEND:20260419T135000Z
LOCATION:Sanctuary - ERUUF   (4907 Garrett Road\, Durham\, NC 27707  )
SUMMARY:Sunday Service (9am)
URL:https://eruuf.org/calendar/calendar-view/event/15647-sunday-service-9am
 .html
END:VEVENT
BEGIN:VEVENT
UID:20260423T142644UTC-9915uwbUcG@https://eruuf.org/
DTSTAMP:20260423T142644Z
DESCRIPTION:The 11:00 am – 12:10 pm service will offer a more traditional-s
 tyle service.\nWe welcome you to attend in-person or online. The service w
 ill be livestreamed on YouTube and Facebook Live.\nMasks are optional for 
 in-person attendance by congregants and participants.\nFor more informatio
 n about the service\, subscribe to our weekly E-News.  https://eruuf.org/c
 alendar/calendar-view/event/15682-sunday-service-11am.html
DTSTART:20260419T150000Z
DTEND:20260419T161000Z
LOCATION:Sanctuary - ERUUF   (4907 Garrett Road\, Durham\, NC 27707  )
SUMMARY:Sunday Service (11am)
URL:https://eruuf.org/calendar/calendar-view/event/15682-sunday-service-11a
 m.html
END:VEVENT
BEGIN:VEVENT
UID:20260423T142644UTC-9916HaeBgz@https://eruuf.org/
DTSTAMP:20260423T142644Z
DESCRIPTION:Welcome middle schoolers!\n \nWe invite any youth in 6-8th grad
 es to join us for an off-campus outing with MSYG.\nPrevious outings have i
 ncluded hikes\, roller skating\, ice skating\, movies\, escape rooms\, tra
 mpoline parks\, and more. Duration of the outing may vary. Youth may carpo
 ol with advisors/parent volunteers from ERUUF or meet at the destination.
 \n \nDepending on the specific activity\, lunch will either be provided or
  we will ask caregivers to send youth with a packed lunch. Activities are 
 selected to be no or low-cost\; if you are unable to participate due to la
 ck of funds\, please reach out and we will make sure you can attend.\n\n 
 \nAll youth must complete the Youth Permission Form with a guardian before
  participating in off-campus activities.\n \nFor details about this partic
 ular field trip or more information about our youth programming\, reach ou
 t to Moritz (kmoritz@eruuf.org).\n https://eruuf.org/calendar/calendar-vie
 w/event/15760-middle-school-youth-group-msyg-field-trip.html
DTSTART:20260419T161500Z
DTEND:20260419T190000Z
LOCATION:Offsite ()
SUMMARY:Middle School Youth Group (MSYG) Field Trip
URL:https://eruuf.org/calendar/calendar-view/event/15760-middle-school-yout
 h-group-msyg-field-trip.html
END:VEVENT
BEGIN:VEVENT
UID:20260423T142644UTC-9917uvolSA@https://eruuf.org/
DTSTAMP:20260423T142644Z
DESCRIPTION:Are you in Grades K - 3 and want to join the Sunshine Kids? Joi
 n us starting Sun.\, Sept. 7 between services.\nFor more information\, ple
 ase email sunshinekids@eruuf.org. https://eruuf.org/calendar/calendar-view
 /event/15796-sunshine-kids-choir-rehearsal.html
DTSTART:20260419T141500Z
DTEND:20260419T144500Z
LOCATION:ERUUF Campus   (4907 Garrett Rd\, Durham\, NC 27707    )
SUMMARY:Sunshine Kids Choir Rehearsal
URL:https://eruuf.org/calendar/calendar-view/event/15796-sunshine-kids-choi
 r-rehearsal.html
END:VEVENT
BEGIN:VEVENT
UID:20260423T142644UTC-9918WepUe2@https://eruuf.org/
DTSTAMP:20260423T142644Z
DESCRIPTION:Are you in Grades 4-8 and would like to participate in the Chal
 ice Singers? Join us starting Sun.\, Sept. 7 between services!\nFor more i
 nformation\, email chalicesingers@eruuf.org.  https://eruuf.org/calendar/c
 alendar-view/event/15830-chalice-singers-choir-rehearsal.html
DTSTART:20260419T141500Z
DTEND:20260419T145000Z
LOCATION:ERUUF Campus   (4907 Garrett Rd\, Durham\, NC 27707    )
SUMMARY:Chalice Singers Choir Rehearsal
URL:https://eruuf.org/calendar/calendar-view/event/15830-chalice-singers-ch
 oir-rehearsal.html
END:VEVENT
BEGIN:VEVENT
UID:20260423T142644UTC-9919rEVNNb@https://eruuf.org/
DTSTAMP:20260423T142644Z
DESCRIPTION:Welcome high schoolers!\n \nWe invite any youth in 9-12th grade
 s to join us for youth group.\nLunch will be provided\, then advisors will
  lead the group in ritual\, games\, discussion\, activities\, and much mor
 e. We also have occasional off-campus trips and 'lock-ins' (sleepovers at 
 the church).\n \nAll youth must complete the Youth Permission Form with a 
 guardian before attending such activities.\nFor more information about our
  youth programming\, reach out to Moritz (kmoritz@eruuf.org) to be added t
 o our HSYG email list.  https://eruuf.org/calendar/calendar-view/event/160
 03-high-school-youth-group-hsyg.html
DTSTART:20260419T163000Z
DTEND:20260419T180000Z
LOCATION:ERUUF Campus   (4907 Garrett Rd\, Durham\, NC 27707    )
SUMMARY:High School Youth Group (HSYG)
URL:https://eruuf.org/calendar/calendar-view/event/16003-high-school-youth-
 group-hsyg.html
END:VEVENT
BEGIN:VEVENT
UID:20260423T142644UTC-9920jw1Ztu@https://eruuf.org/
DTSTAMP:20260423T142644Z
DESCRIPTION:Join the Trans @ ERUUF group for conversations on the trans and
  nonbinary experience both at ERUUF and in the larger world.\nFor more inf
 ormation\, please email trans@eruuf.org. https://eruuf.org/calendar/calend
 ar-view/event/16055-trans-eruuf.html
DTSTART:20260419T163000Z
DTEND:20260419T180000Z
LOCATION:Room 3 - CARE Building ()
SUMMARY:Trans @ ERUUF
URL:https://eruuf.org/calendar/calendar-view/event/16055-trans-eruuf.html
END:VEVENT
BEGIN:VEVENT
UID:20260423T142644UTC-9920LSk9Df@https://eruuf.org/
DTSTAMP:20260423T142644Z
DESCRIPTION:This month\, we will learn about the Iceburg Model.\nHow do we 
 examine our culture when we’re immersed in it? How do we learn how our cul
 ture affects people from differing cultures? The Iceberg Model is an acces
 sible way to examine any cultural group from our individual viewpoints and
  learn more about the contexts in which we live.\n \nPlease contact the Wh
 ite Antiracism Group for more informaiton. https://eruuf.org/calendar/cale
 ndar-view/event/16071-white-antiracism-group-wag.html
DTSTART:20260419T170000Z
DTEND:20260419T183000Z
LOCATION:Commons Room   (4907 Garrett Rd\, Durham\, NC 27707  )
SUMMARY:White Antiracism Group (WAG)
URL:https://eruuf.org/calendar/calendar-view/event/16071-white-antiracism-g
 roup-wag.html
END:VEVENT
BEGIN:VEVENT
UID:20260423T142644UTC-9921CAlWUM@https://eruuf.org/
DTSTAMP:20260423T142644Z
DESCRIPTION:Sunday worship service led by the three ministers called by ERU
 UFians over the past 5 decades: Rev Arvid Straube\, Rev. Deborah Cayer\, a
 nd Rev. Jacqueline Brett. Please join us in-person or livestream on YouTub
 e or Facebook Live.\nMusic by Melanie DeMore\, the ERUUF Anniversary Choir
 \, ERUUF House Band\, and Music Director Wendy Looker.\nThe service is lik
 ely to run 90 minutes. https://eruuf.org/calendar/calendar-view/event/1619
 8-60th-anniversary-worship-service.html
DTSTART:20260419T150000Z
DTEND:20260419T163000Z
LOCATION:Sanctuary - ERUUF   (4907 Garrett Road\, Durham\, NC 27707  )
SUMMARY:60th Anniversary Worship Service
URL:https://eruuf.org/calendar/calendar-view/event/16198-60th-anniversary-w
 orship-service.html
END:VEVENT
BEGIN:VEVENT
UID:20260423T142644UTC-9922ddNVML@https://eruuf.org/
DTSTAMP:20260423T142644Z
DESCRIPTION:\nBig THANKS to everyone who donated food in March and to the R
 E youth who helped sort the different varieties of proteins into boxes for
  delvery to the Emanuel Food Pantry. The partneship between the Muticultur
 al Team and RE is an ongoing initiative to help address food insecurity in
  Durham.\nOn Sunday\, April 19\, we will be collecting all varieties of pr
 otein.\nFor more information\, please contact the Multicultural Team. http
 s://eruuf.org/calendar/calendar-view/event/16231-emanuel-food-pantry-colle
 ction.html
DTSTART:20260419T130000Z
DTEND:20260419T170000Z
LOCATION:ERUUF Office ()
SUMMARY:Emanuel Food Pantry Collection
URL:https://eruuf.org/calendar/calendar-view/event/16231-emanuel-food-pantr
 y-collection.html
END:VEVENT
END:VCALENDAR
