BEGIN:VCALENDAR
VERSION:2.0
PRODID:-//https://eruuf.org///NONSGML kigkonsult.se iCalcreator 2.10.15//
METHOD:PUBLISH
BEGIN:VEVENT
UID:20260425T031513UTC-3844N52vuo@https://eruuf.org/
DTSTAMP:20260425T031513Z
DESCRIPTION:Please see the document below for this meeting's schedule. Meet
 ing is held over Zoom (link below).\nMeeting ID: 587 833 0298Passcode: 273
 2\nJoin Meeting\n  https://eruuf.org/calendar/calendar-view/event/14696-bo
 ard-of-trustees-monthly-meeting.html
DTSTART:20260421T230000Z
DTEND:20260422T010000Z
LOCATION:Online  (Online meetings are organized by the group leader. See th
 e meeting event details for information on how to join.)
SUMMARY:Board of Trustees Monthly Meeting
URL:https://eruuf.org/calendar/calendar-view/event/14696-board-of-trustees-
 monthly-meeting.html
END:VEVENT
BEGIN:VEVENT
UID:20260425T031513UTC-3845URwJAD@https://eruuf.org/
DTSTAMP:20260425T031513Z
DESCRIPTION:All are welcome! The BCC focuses on music of the Black diaspora
  in the U.S. and celebrates the oral tradition. \nFor more information\, e
 mail Music Director\, Wendy Looker. https://eruuf.org/calendar/calendar-vi
 ew/event/15217-beloved-community-chorus-rehearsal.html
DTSTART:20260421T230000Z
DTEND:20260422T003000Z
LOCATION:ERUUF Commons Room (4907 Garrett Road)
SUMMARY:Beloved Community Chorus Rehearsal
URL:https://eruuf.org/calendar/calendar-view/event/15217-beloved-community-
 chorus-rehearsal.html
END:VEVENT
BEGIN:VEVENT
UID:20260425T031513UTC-38477Um8vX@https://eruuf.org/
DTSTAMP:20260425T031513Z
DESCRIPTION:Nonreligious Humanism\nWe will be discussing Maria Greene’s ess
 ay “Nonreligious Humanism” in 'Humanist Voices in Unitarian Universalism'.
  Central to her essay seems to be the question of whether nonreligious peo
 ple really belong in Unitarian Universalism -- whether they are equally re
 spected and welcomed or whether they are treated as second-class citizens 
 by their congregations and/or the UUA. Greene has clearly had some difficu
 lt moments expressing her nonreligious cosmology in her UU community. She 
 specifically mentions being considered narrow-minded\, unimaginative\, and
  spiritually immature. What is your experience at ERUUF and the larger UU 
 community? We have permission to make paper copies of the essay but not to
  share electronically\, so there are copies available in the ERUUF office 
 in the 'pick-up' mailbox. Stop by and pick one up soon so you have a chanc
 e to read it before the meeting. Please email nontheist@eruuf.org if you t
 ake the next to last one so we can replenish the supply\, and if getting t
 o ERUUF is a hardship so we can mail a copy to you.\nQuestions? Email nont
 heist@eruuf.org\nRSVP Here https://eruuf.org/calendar/calendar-view/event/
 15235-nontheist-group-virtual-meeting.html
DTSTART:20260421T230000Z
DTEND:20260422T003000Z
LOCATION:Online  (Online meetings are organized by the group leader. See th
 e meeting event details for information on how to join.)
SUMMARY:Nontheist Group (Virtual Meeting)
URL:https://eruuf.org/calendar/calendar-view/event/15235-nontheist-group-vi
 rtual-meeting.html
END:VEVENT
BEGIN:VEVENT
UID:20260425T031513UTC-3849rbvtDD@https://eruuf.org/
DTSTAMP:20260425T031513Z
DESCRIPTION:The ERUUF Book Club meets next Tuesday\, April 21 at 7:00 PM on
 line via Zoom.\nWe are discussing I Cheerfully Refuse by Leif Enger.  All\
 , especially first timers\, are invited for book discussion and fellowship
 .\n \nFUTURE ERUUF BOOK CLUB MEETINGS & TITLES  \n\n\n\n\nMay 19\, 2026\n
 \n\nChasing Me to My Grave: An Artist's Memoir of the Jim Crow South\n\n\n
 Winfred Rembert\, as told by Erin I. Kelly\n\n\n\n\nJune 16\, 2026\n\n\nA 
 Town Without Time: Gay Talese's New York\n\n\nGay Talese\n\n\n\n\nJuly 21\
 , 2026\n\nRemarkably Bright Creatures\nShelby Van Pelt\n\n\n\nAugust 18\, 
 2026\n\n\nChange\n\n\nEdouard Louis\, Translated by John Lambert\n\n\n\n\n
 September 15\, 2026\n\n\nFever Beach\n\n\nCarl Hiaasen\n\n\n\n\nOctober 20
 \, 2026\n\n\nThe Antidote\n\n\nKaren Russell\n\n\n\n\nNovember 17\, 2026\n
 \n\nCare and Feeding: A Memoir\n\n\nKaren Russell\n\n\n\n\nDecember 15 No 
 Meeting Winter Holidays\n\n\n\n\nFor More Information and the Zoom link\, 
 contact the ERUUF Book Club. https://eruuf.org/calendar/calendar-view/even
 t/15306-eruuf-book-club.html
DTSTART:20260421T230000Z
DTEND:20260422T003000Z
LOCATION:Online  (Online meetings are organized by the group leader. See th
 e meeting event details for information on how to join.)
SUMMARY:ERUUF Book Club
URL:https://eruuf.org/calendar/calendar-view/event/15306-eruuf-book-club.ht
 ml
END:VEVENT
BEGIN:VEVENT
UID:20260425T031513UTC-3850Ew4U92@https://eruuf.org/
DTSTAMP:20260425T031513Z
DESCRIPTION:The Heart of Justice Song Circle is a lay-led\, ERUUF music gro
 up. We learn songs mostly by call and response in the oral tradition. Musi
 cal styles range from folk to gospel to justice songs and beyond. We sing 
 songs that envision a world closely aligned with UU values\, centering lov
 e and calling for justice. Regardless of singing experience\, all ERUUF me
 mbers and friends are welcome to join us as we build community\, transform
 ing lives and nourishing spirits through song.\nFor more information\, ple
 ase contact the Heart of Justice Song Circle. https://eruuf.org/calendar/c
 alendar-view/event/16136-heart-of-justice-song-circle.html
DTSTART:20260421T230000Z
DTEND:20260422T003000Z
LOCATION:Commons Room   (4907 Garrett Rd\, Durham\, NC 27707  )
SUMMARY:Heart of Justice Song Circle  
URL:https://eruuf.org/calendar/calendar-view/event/16136-heart-of-justice-s
 ong-circle.html
END:VEVENT
END:VCALENDAR
