BEGIN:VCALENDAR
VERSION:2.0
PRODID:-//https://eruuf.org///NONSGML kigkonsult.se iCalcreator 2.10.15//
METHOD:PUBLISH
BEGIN:VEVENT
UID:20260420T082657UTC-3627n4L1RR@https://eruuf.org/
DTSTAMP:20260420T082657Z
DESCRIPTION:Learn the fundamentals of Tai Chi with relaxing and energizing 
 exercises. We will 'move to feel'\, learn that 'less is more' and explore 
 yin and yang in action. Classes will be outside when weather permits. Clas
 s taught by Nancy Couts.\nFor more information\, please send an email to N
 ancy Couts.  https://eruuf.org/calendar/calendar-view/event/15424-tai-chi-
 for-health-and-wellbeing.html
DTSTART:20260422T180000Z
DTEND:20260422T190000Z
LOCATION:ERUUF Fellowship Hall (4907 Garrett Road)
SUMMARY:Tai Chi for Health and Wellbeing
URL:https://eruuf.org/calendar/calendar-view/event/15424-tai-chi-for-health
 -and-wellbeing.html
END:VEVENT
BEGIN:VEVENT
UID:20260420T082657UTC-3628wdoOKP@https://eruuf.org/
DTSTAMP:20260420T082657Z
DESCRIPTION:The April 22 class will be ONLINE ONLY.\n______________________
 __________________________________\nFacilitated by Rev. Jacqueline Brett.
 \nThis spring\, over the course of five sessions\, we'll cultivate our gif
 ts for resilience by exploring poems as sources that inspire us. The proce
 ss will be twofold: reading the work of others and writing our own works t
 hrough practices of reflection\, presence\, healing\, and 'good medicine'.
 \nNo writing experience is necessary\, only an open heart and a commitment
  to process\, practice\, and presence (for self and others).  Participants
  are asked to select a published collection of poetry they find inspiring 
 to work with over the course of the class. A list of collections to consid
 er will be provided.\nThis class is designed as a small-group community of
  practice rather than a drop-in class. Please register in advance below.\n
 Questions? Contact Michele Sager\nRegister Here https://eruuf.org/calendar
 /calendar-view/event/16039-class-with-the-minister-poetry-as-sacred-practi
 ce.html
DTSTART:20260422T223000Z
DTEND:20260423T000000Z
LOCATION:Fellowship Hall   ()
SUMMARY:Class with the Minister - Poetry as Sacred Practice: Inspirations
URL:https://eruuf.org/calendar/calendar-view/event/16039-class-with-the-min
 ister-poetry-as-sacred-practice.html
END:VEVENT
END:VCALENDAR
