BEGIN:VCALENDAR
VERSION:2.0
PRODID:-//https://eruuf.org///NONSGML kigkonsult.se iCalcreator 2.10.15//
METHOD:PUBLISH
BEGIN:VEVENT
UID:20260421T185052UTC-2866uunb9A@https://eruuf.org/
DTSTAMP:20260421T185052Z
DESCRIPTION:This is the monthly meeting of the ERUUF Jewish Fellowship. We 
 talk about a variety of topics\, including what it means to be Jewish in t
 oday's world. All are welcome. \nFor more information\, contact the ERUUF 
 Jewish Fellowship.  https://eruuf.org/calendar/calendar-view/event/15283-j
 ewish-fellowship-meeting.html
DTSTART:20260426T170000Z
DTEND:20260426T183000Z
LOCATION:Library - CARE Building ()
SUMMARY:Jewish Fellowship Meeting
URL:https://eruuf.org/calendar/calendar-view/event/15283-jewish-fellowship-
 meeting.html
END:VEVENT
BEGIN:VEVENT
UID:20260421T185052UTC-2867XXzvbV@https://eruuf.org/
DTSTAMP:20260421T185052Z
DESCRIPTION:The Inquirers Series is offered each Sunday morning to welcome 
 and inform visitors and friends about ERUUF. You will converse with minist
 ers\, staff\, and lay leaders as you learn about ERUUF’s values\, culture\
 , and ministries\, along with basics about Unitarian Universalism. Eight t
 opics are covered\, one per session\, and then repeated throughout the yea
 r. Twice a year\, we hold an all-class Saturday Retreat.\nExisting members
  are also welcome! \nFor a full Inquirers Series schedule for the year\, p
 lease click this link. \nContact the Inquirers Team and check out ERUUF's 
 weekly E-News for more information! \nInquirers Classes are meeting both i
 n-person (Commons Room of the CARE Building) and online (Zoom). \nJoin onl
 ine via the link below.\nJoin Zoom Meeting\n Meeting ID: 946 1651 6649Pass
 code: 028157 https://eruuf.org/calendar/calendar-view/event/15614-inquirer
 s-series.html
DTSTART:20260426T140000Z
DTEND:20260426T145000Z
LOCATION:Commons Room   (4907 Garrett Rd\, Durham\, NC 27707  )
SUMMARY:Inquirers Series
URL:https://eruuf.org/calendar/calendar-view/event/15614-inquirers-series.h
 tml
END:VEVENT
BEGIN:VEVENT
UID:20260421T185052UTC-2869rIPPg8@https://eruuf.org/
DTSTAMP:20260421T185052Z
DESCRIPTION:The 9:00 am - 10:00 am service is our contemplative\, more quie
 t service.\nMasks are optional for in-person attendance by congregants and
  participants. \nFor more information about service each week\, subscribe 
 to our weekly E-News.  https://eruuf.org/calendar/calendar-view/event/1564
 8-sunday-service-9am.html
DTSTART:20260426T130000Z
DTEND:20260426T135000Z
LOCATION:Sanctuary - ERUUF   (4907 Garrett Road\, Durham\, NC 27707  )
SUMMARY:Sunday Service (9am)
URL:https://eruuf.org/calendar/calendar-view/event/15648-sunday-service-9am
 .html
END:VEVENT
BEGIN:VEVENT
UID:20260421T185052UTC-2870WzfEmi@https://eruuf.org/
DTSTAMP:20260421T185052Z
DESCRIPTION:The 11:00 am – 12:10 pm service will offer a more traditional-s
 tyle service.\nWe welcome you to attend in-person or online. The service w
 ill be livestreamed on YouTube and Facebook Live.\nMasks are optional for 
 in-person attendance by congregants and participants.\nFor more informatio
 n about the service\, subscribe to our weekly E-News.  https://eruuf.org/c
 alendar/calendar-view/event/15683-sunday-service-11am.html
DTSTART:20260426T150000Z
DTEND:20260426T161000Z
LOCATION:Sanctuary - ERUUF   (4907 Garrett Road\, Durham\, NC 27707  )
SUMMARY:Sunday Service (11am)
URL:https://eruuf.org/calendar/calendar-view/event/15683-sunday-service-11a
 m.html
END:VEVENT
BEGIN:VEVENT
UID:20260421T185052UTC-2871AKdA8O@https://eruuf.org/
DTSTAMP:20260421T185052Z
DESCRIPTION:Are you in Grades K - 3 and want to join the Sunshine Kids? Joi
 n us starting Sun.\, Sept. 7 between services.\nFor more information\, ple
 ase email sunshinekids@eruuf.org. https://eruuf.org/calendar/calendar-view
 /event/15797-sunshine-kids-choir-rehearsal.html
DTSTART:20260426T141500Z
DTEND:20260426T144500Z
LOCATION:ERUUF Campus   (4907 Garrett Rd\, Durham\, NC 27707    )
SUMMARY:Sunshine Kids Choir Rehearsal
URL:https://eruuf.org/calendar/calendar-view/event/15797-sunshine-kids-choi
 r-rehearsal.html
END:VEVENT
BEGIN:VEVENT
UID:20260421T185052UTC-2872fRgVHm@https://eruuf.org/
DTSTAMP:20260421T185052Z
DESCRIPTION:Are you in Grades 4-8 and would like to participate in the Chal
 ice Singers? Join us starting Sun.\, Sept. 7 between services!\nFor more i
 nformation\, email chalicesingers@eruuf.org.  https://eruuf.org/calendar/c
 alendar-view/event/15831-chalice-singers-choir-rehearsal.html
DTSTART:20260426T141500Z
DTEND:20260426T145000Z
LOCATION:ERUUF Campus   (4907 Garrett Rd\, Durham\, NC 27707    )
SUMMARY:Chalice Singers Choir Rehearsal
URL:https://eruuf.org/calendar/calendar-view/event/15831-chalice-singers-ch
 oir-rehearsal.html
END:VEVENT
BEGIN:VEVENT
UID:20260421T185052UTC-2872XcJwc0@https://eruuf.org/
DTSTAMP:20260421T185052Z
DESCRIPTION:Welcome high schoolers!\n \nWe invite any youth in 9-12th grade
 s to join us for youth group.\nLunch will be provided\, then advisors will
  lead the group in ritual\, games\, discussion\, activities\, and much mor
 e. We also have occasional off-campus trips and 'lock-ins' (sleepovers at 
 the church).\n \nAll youth must complete the Youth Permission Form with a 
 guardian before attending such activities.\nFor more information about our
  youth programming\, reach out to Moritz (kmoritz@eruuf.org) to be added t
 o our HSYG email list.  https://eruuf.org/calendar/calendar-view/event/160
 04-high-school-youth-group-hsyg.html
DTSTART:20260426T163000Z
DTEND:20260426T180000Z
LOCATION:ERUUF Campus   (4907 Garrett Rd\, Durham\, NC 27707    )
SUMMARY:High School Youth Group (HSYG)
URL:https://eruuf.org/calendar/calendar-view/event/16004-high-school-youth-
 group-hsyg.html
END:VEVENT
BEGIN:VEVENT
UID:20260421T185052UTC-2873f8EVWm@https://eruuf.org/
DTSTAMP:20260421T185052Z
DESCRIPTION:InfUUsions Giving Circle meeting to make decisions to disperse 
 funds to selected local charities.\nFor more information\, please contact 
 membership@eruuf.org.\n  https://eruuf.org/calendar/calendar-view/event/16
 185-infuusions-giving-circle-spring-meeting.html
DTSTART:20260426T170000Z
DTEND:20260426T180000Z
LOCATION:Room 1 - CARE Building ()
SUMMARY:InfUUsions Giving Circle Spring Meeting
URL:https://eruuf.org/calendar/calendar-view/event/16185-infuusions-giving-
 circle-spring-meeting.html
END:VEVENT
END:VCALENDAR
