BEGIN:VCALENDAR
VERSION:2.0
PRODID:-//https://eruuf.org///NONSGML kigkonsult.se iCalcreator 2.10.15//
METHOD:PUBLISH
BEGIN:VEVENT
UID:20260423T020327UTC-4030ckLIpv@https://eruuf.org/
DTSTAMP:20260423T020327Z
DESCRIPTION:The 9:00 am - 10:00 am service is our contemplative\, more quie
 t service.\nMasks are optional for in-person attendance by congregants and
  participants. \nFor more information about service each week\, subscribe 
 to our weekly E-News.  https://eruuf.org/calendar/calendar-view/event/1564
 9-sunday-service-9am.html
DTSTART:20260503T130000Z
DTEND:20260503T135000Z
LOCATION:Sanctuary - ERUUF   (4907 Garrett Road\, Durham\, NC 27707  )
SUMMARY:Sunday Service (9am)
URL:https://eruuf.org/calendar/calendar-view/event/15649-sunday-service-9am
 .html
END:VEVENT
BEGIN:VEVENT
UID:20260423T020327UTC-40326eb7sG@https://eruuf.org/
DTSTAMP:20260423T020327Z
DESCRIPTION:The 11:00 am – 12:10 pm service will offer a more traditional-s
 tyle service.\nWe welcome you to attend in-person or online. The service w
 ill be livestreamed on YouTube and Facebook Live.\nMasks are optional for 
 in-person attendance by congregants and participants.\nFor more informatio
 n about the service\, subscribe to our weekly E-News.  https://eruuf.org/c
 alendar/calendar-view/event/15684-sunday-service-11am.html
DTSTART:20260503T150000Z
DTEND:20260503T161000Z
LOCATION:Sanctuary - ERUUF   (4907 Garrett Road\, Durham\, NC 27707  )
SUMMARY:Sunday Service (11am)
URL:https://eruuf.org/calendar/calendar-view/event/15684-sunday-service-11a
 m.html
END:VEVENT
BEGIN:VEVENT
UID:20260423T020327UTC-40332PUKTC@https://eruuf.org/
DTSTAMP:20260423T020327Z
DESCRIPTION:Are you in Grades K - 3 and want to join the Sunshine Kids? Joi
 n us starting Sun.\, Sept. 7 between services.\nFor more information\, ple
 ase email sunshinekids@eruuf.org. https://eruuf.org/calendar/calendar-view
 /event/15798-sunshine-kids-choir-rehearsal.html
DTSTART:20260503T141500Z
DTEND:20260503T144500Z
LOCATION:ERUUF Campus   (4907 Garrett Rd\, Durham\, NC 27707    )
SUMMARY:Sunshine Kids Choir Rehearsal
URL:https://eruuf.org/calendar/calendar-view/event/15798-sunshine-kids-choi
 r-rehearsal.html
END:VEVENT
BEGIN:VEVENT
UID:20260423T020327UTC-4034UAUkcf@https://eruuf.org/
DTSTAMP:20260423T020327Z
DESCRIPTION:Are you in Grades 4-8 and would like to participate in the Chal
 ice Singers? Join us starting Sun.\, Sept. 7 between services!\nFor more i
 nformation\, email chalicesingers@eruuf.org.  https://eruuf.org/calendar/c
 alendar-view/event/15832-chalice-singers-choir-rehearsal.html
DTSTART:20260503T141500Z
DTEND:20260503T145000Z
LOCATION:ERUUF Campus   (4907 Garrett Rd\, Durham\, NC 27707    )
SUMMARY:Chalice Singers Choir Rehearsal
URL:https://eruuf.org/calendar/calendar-view/event/15832-chalice-singers-ch
 oir-rehearsal.html
END:VEVENT
BEGIN:VEVENT
UID:20260423T020327UTC-4035B2Pez4@https://eruuf.org/
DTSTAMP:20260423T020327Z
DESCRIPTION:Welcome high schoolers!\n \nWe invite any youth in 9-12th grade
 s to join us for youth group.\nLunch will be provided\, then advisors will
  lead the group in ritual\, games\, discussion\, activities\, and much mor
 e. We also have occasional off-campus trips and 'lock-ins' (sleepovers at 
 the church).\n \nAll youth must complete the Youth Permission Form with a 
 guardian before attending such activities.\nFor more information about our
  youth programming\, reach out to Moritz (kmoritz@eruuf.org) to be added t
 o our HSYG email list.  https://eruuf.org/calendar/calendar-view/event/160
 05-high-school-youth-group-hsyg.html
DTSTART:20260503T163000Z
DTEND:20260503T180000Z
LOCATION:ERUUF Campus   (4907 Garrett Rd\, Durham\, NC 27707    )
SUMMARY:High School Youth Group (HSYG)
URL:https://eruuf.org/calendar/calendar-view/event/16005-high-school-youth-
 group-hsyg.html
END:VEVENT
BEGIN:VEVENT
UID:20260423T020327UTC-4036ei4VHH@https://eruuf.org/
DTSTAMP:20260423T020327Z
DESCRIPTION:On Sunday February 1\, at 3 pm\, we will have an informal Zoom 
 chat. To receive the Zoom link\, please send an email to pride@eruuf.org. 
 https://eruuf.org/calendar/calendar-view/event/16148-pride-zoom-chat.html
DTSTART:20260503T190000Z
DTEND:20260503T200000Z
LOCATION:Online  (Online meetings are organized by the group leader. See th
 e meeting event details for information on how to join.)
SUMMARY:Pride+ Zoom Chat
URL:https://eruuf.org/calendar/calendar-view/event/16148-pride-zoom-chat.ht
 ml
END:VEVENT
BEGIN:VEVENT
UID:20260423T020327UTC-4037LTDHEe@https://eruuf.org/
DTSTAMP:20260423T020327Z
DESCRIPTION:Beltane is about celebrating love in all its forms. The land is
  becoming ever more fertile and lush. This season of Spring in full bloom 
 gives us a renewal of hope. We join with people around the world to co-cre
 ate a future where we can live in harmony and balance with all life on ear
 th. We will meet in the Commons Room. You may also want to attend the Litt
 le Pagan Faire at ERUUF which happens the day before\, on May 2.\nFor more
  information\, contact the Eno River CUUPs. https://eruuf.org/calendar/cal
 endar-view/event/16233-eno-river-cuups-beltane-sabbat.html
DTSTART:20260503T173000Z
DTEND:20260503T190000Z
LOCATION:Commons Room   (4907 Garrett Rd\, Durham\, NC 27707  )
SUMMARY:Eno River CUUPS Beltane Sabbat
URL:https://eruuf.org/calendar/calendar-view/event/16233-eno-river-cuups-be
 ltane-sabbat.html
END:VEVENT
BEGIN:VEVENT
UID:20260423T020327UTC-4038juZDSc@https://eruuf.org/
DTSTAMP:20260423T020327Z
DESCRIPTION:250th Anniversary of the American Revolution: What does it mean
  to you? What does it say to us today? You may think you know a lot about 
 the American Revolution\, but the documentary director\, Ken Burns\, may s
 urprise you! In his recent six-part documentary on the American Revolution
 \, Burns says the American Revolution was a 'civil war' that became a 'wor
 ld war.' He aims to educate and have you 'rethink what you know about the 
 American Revolution.” Join us to learn and be surprised. Before our discus
 sion\, we will watch a brief video entitled 'Giving Voice to the American 
 Revolution'. \nRegister Here https://eruuf.org/calendar/calendar-view/even
 t/16236-1st-sunday-conversations-multicultural-team.html
DTSTART:20260503T173000Z
DTEND:20260503T183000Z
LOCATION:Online  (Online meetings are organized by the group leader. See th
 e meeting event details for information on how to join.)
SUMMARY:1st Sunday Conversations (Multicultural Team)
URL:https://eruuf.org/calendar/calendar-view/event/16236-1st-sunday-convers
 ations-multicultural-team.html
END:VEVENT
END:VCALENDAR
