BEGIN:VCALENDAR
VERSION:2.0
PRODID:-//https://eruuf.org///NONSGML kigkonsult.se iCalcreator 2.10.15//
METHOD:PUBLISH
BEGIN:VEVENT
UID:20260424T210713UTC-6050VBL3Dk@https://eruuf.org/
DTSTAMP:20260424T210713Z
DESCRIPTION:Learn the fundamentals of Tai Chi with relaxing and energizing 
 exercises. We will 'move to feel'\, learn that 'less is more' and explore 
 yin and yang in action. Classes will be outside when weather permits. Clas
 s taught by Nancy Couts.\nFor more information\, please send an email to N
 ancy Couts.  https://eruuf.org/calendar/calendar-view/event/15426-tai-chi-
 for-health-and-wellbeing.html
DTSTART:20260506T180000Z
DTEND:20260506T190000Z
LOCATION:ERUUF Fellowship Hall (4907 Garrett Road)
SUMMARY:Tai Chi for Health and Wellbeing
URL:https://eruuf.org/calendar/calendar-view/event/15426-tai-chi-for-health
 -and-wellbeing.html
END:VEVENT
BEGIN:VEVENT
UID:20260424T210713UTC-6052fgGfHD@https://eruuf.org/
DTSTAMP:20260424T210713Z
DESCRIPTION:Join the Board and Senior Staff for a Budget Forum on Wednesday
 \, May 6 at 6:00 pm via Zoom (link on website). We'll review the proposed 
 budget and staffing plan for the coming year\, 2026-27. This is an opportu
 nity to provide feedback or ask questions before this budget goes to a vot
 e at the Annual Meeting on May 31.\nRegister Here https://eruuf.org/calend
 ar/calendar-view/event/16237-finance-forum.html
DTSTART:20260506T220000Z
DTEND:20260506T230000Z
LOCATION:Online  (Online meetings are organized by the group leader. See th
 e meeting event details for information on how to join.)
SUMMARY:Budget Forum
URL:https://eruuf.org/calendar/calendar-view/event/16237-finance-forum.html
END:VEVENT
END:VCALENDAR
