BEGIN:VCALENDAR
VERSION:2.0
PRODID:-//https://eruuf.org///NONSGML kigkonsult.se iCalcreator 2.10.15//
METHOD:PUBLISH
BEGIN:VEVENT
UID:20260424T001537UTC-1057Gv0eSH@https://eruuf.org/
DTSTAMP:20260424T001537Z
DESCRIPTION:We are a community of non-theists within the Unitarian Universa
 list tradition. Together\, we explore the human experience and support eac
 h other in personal growth and in working toward the greater good. \nFor m
 ore information\, please reach out to the Nontheist Group.  https://eruuf.
 org/calendar/calendar-view/event/15245-nontheist-group.html
DTSTART:20260510T170000Z
DTEND:20260510T183000Z
LOCATION:ERUUF Commons Room (4907 Garrett Road)
SUMMARY:Nontheist Group
URL:https://eruuf.org/calendar/calendar-view/event/15245-nontheist-group.ht
 ml
END:VEVENT
BEGIN:VEVENT
UID:20260424T001537UTC-1059rurA9s@https://eruuf.org/
DTSTAMP:20260424T001537Z
DESCRIPTION:Are you in Grades 4-8 and would like to participate in the Chal
 ice Singers? Join us starting Sun.\, Sept. 7 between services!\nFor more i
 nformation\, email chalicesingers@eruuf.org.  https://eruuf.org/calendar/c
 alendar-view/event/15833-chalice-singers-choir-rehearsal.html
DTSTART:20260510T141500Z
DTEND:20260510T145000Z
LOCATION:ERUUF Campus   (4907 Garrett Rd\, Durham\, NC 27707    )
SUMMARY:Chalice Singers Choir Rehearsal
URL:https://eruuf.org/calendar/calendar-view/event/15833-chalice-singers-ch
 oir-rehearsal.html
END:VEVENT
BEGIN:VEVENT
UID:20260424T001537UTC-1060ffa5Uf@https://eruuf.org/
DTSTAMP:20260424T001537Z
DESCRIPTION:Welcome high schoolers!\n \nWe invite any youth in 9-12th grade
 s to join us for youth group.\nLunch will be provided\, then advisors will
  lead the group in ritual\, games\, discussion\, activities\, and much mor
 e. We also have occasional off-campus trips and 'lock-ins' (sleepovers at 
 the church).\n \nAll youth must complete the Youth Permission Form with a 
 guardian before attending such activities.\nFor more information about our
  youth programming\, reach out to Moritz (kmoritz@eruuf.org) to be added t
 o our HSYG email list.  https://eruuf.org/calendar/calendar-view/event/160
 06-high-school-youth-group-hsyg.html
DTSTART:20260510T163000Z
DTEND:20260510T180000Z
LOCATION:ERUUF Campus   (4907 Garrett Rd\, Durham\, NC 27707    )
SUMMARY:High School Youth Group (HSYG)
URL:https://eruuf.org/calendar/calendar-view/event/16006-high-school-youth-
 group-hsyg.html
END:VEVENT
END:VCALENDAR
