BEGIN:VCALENDAR
VERSION:2.0
PRODID:-//https://eruuf.org///NONSGML kigkonsult.se iCalcreator 2.10.15//
METHOD:PUBLISH
BEGIN:VEVENT
UID:20260423T200945UTC-7469JEsRNW@https://eruuf.org/
DTSTAMP:20260423T200945Z
DESCRIPTION:Welcome middle schoolers!\n \nWe invite any youth in 6-8th grad
 es to join us for an off-campus outing with MSYG.\nPrevious outings have i
 ncluded hikes\, roller skating\, ice skating\, movies\, escape rooms\, tra
 mpoline parks\, and more. Duration of the outing may vary. Youth may carpo
 ol with advisors/parent volunteers from ERUUF or meet at the destination.
 \n \nDepending on the specific activity\, lunch will either be provided or
  we will ask caregivers to send youth with a packed lunch. Activities are 
 selected to be no or low-cost\; if you are unable to participate due to la
 ck of funds\, please reach out and we will make sure you can attend.\n\n 
 \nAll youth must complete the Youth Permission Form with a guardian before
  participating in off-campus activities.\n \nFor details about this partic
 ular field trip or more information about our youth programming\, reach ou
 t to Moritz (kmoritz@eruuf.org).\n https://eruuf.org/calendar/calendar-vie
 w/event/15761-middle-school-youth-group-msyg-field-trip.html
DTSTART:20260517T161500Z
DTEND:20260517T190000Z
LOCATION:Offsite ()
SUMMARY:Middle School Youth Group (MSYG) Field Trip
URL:https://eruuf.org/calendar/calendar-view/event/15761-middle-school-yout
 h-group-msyg-field-trip.html
END:VEVENT
BEGIN:VEVENT
UID:20260423T200945UTC-7471axVzRG@https://eruuf.org/
DTSTAMP:20260423T200945Z
DESCRIPTION:Are you in Grades 4-8 and would like to participate in the Chal
 ice Singers? Join us starting Sun.\, Sept. 7 between services!\nFor more i
 nformation\, email chalicesingers@eruuf.org.  https://eruuf.org/calendar/c
 alendar-view/event/15834-chalice-singers-choir-rehearsal.html
DTSTART:20260517T141500Z
DTEND:20260517T145000Z
LOCATION:ERUUF Campus   (4907 Garrett Rd\, Durham\, NC 27707    )
SUMMARY:Chalice Singers Choir Rehearsal
URL:https://eruuf.org/calendar/calendar-view/event/15834-chalice-singers-ch
 oir-rehearsal.html
END:VEVENT
BEGIN:VEVENT
UID:20260423T200945UTC-7472lvXCwe@https://eruuf.org/
DTSTAMP:20260423T200945Z
DESCRIPTION:Welcome high schoolers!\n \nWe invite any youth in 9-12th grade
 s to join us for youth group.\nLunch will be provided\, then advisors will
  lead the group in ritual\, games\, discussion\, activities\, and much mor
 e. We also have occasional off-campus trips and 'lock-ins' (sleepovers at 
 the church).\n \nAll youth must complete the Youth Permission Form with a 
 guardian before attending such activities.\nFor more information about our
  youth programming\, reach out to Moritz (kmoritz@eruuf.org) to be added t
 o our HSYG email list.  https://eruuf.org/calendar/calendar-view/event/160
 07-high-school-youth-group-hsyg.html
DTSTART:20260517T163000Z
DTEND:20260517T180000Z
LOCATION:ERUUF Campus   (4907 Garrett Rd\, Durham\, NC 27707    )
SUMMARY:High School Youth Group (HSYG)
URL:https://eruuf.org/calendar/calendar-view/event/16007-high-school-youth-
 group-hsyg.html
END:VEVENT
BEGIN:VEVENT
UID:20260423T200945UTC-7473h2p0j5@https://eruuf.org/
DTSTAMP:20260423T200945Z
DESCRIPTION:Join the Trans @ ERUUF group for conversations on the trans and
  nonbinary experience both at ERUUF and in the larger world.\nFor more inf
 ormation\, please email trans@eruuf.org. https://eruuf.org/calendar/calend
 ar-view/event/16056-trans-eruuf.html
DTSTART:20260517T163000Z
DTEND:20260517T180000Z
LOCATION:Room 3 - CARE Building ()
SUMMARY:Trans @ ERUUF
URL:https://eruuf.org/calendar/calendar-view/event/16056-trans-eruuf.html
END:VEVENT
BEGIN:VEVENT
UID:20260423T200945UTC-7474BJF0BV@https://eruuf.org/
DTSTAMP:20260423T200945Z
DESCRIPTION:WAG is an intentional space for people who identify as white to
  work on dismantling the internalized white supremacy in our bodies\, feel
 ings\, thoughts\, and behaviors. We acknowledge that the systems and struc
 tures of our culture were designed to uphold white supremacy and that whit
 e supremacy is violence. We take responsibility for transforming our bodie
 s\, feelings\, thoughts\, and behaviors from upholding the dominant cultur
 e toward the work of collective liberation for all. WAG\, as a racial iden
 tity caucus group\, is sibling to the Black\, Indigenous and People of Col
 or (BIPOC) group.\n \nPlease contact the White Antiracism Group for more i
 nformaiton. https://eruuf.org/calendar/calendar-view/event/16072-white-ant
 iracism-group-wag.html
DTSTART:20260517T170000Z
DTEND:20260517T183000Z
LOCATION:Commons Room   (4907 Garrett Rd\, Durham\, NC 27707  )
SUMMARY:White Antiracism Group (WAG)
URL:https://eruuf.org/calendar/calendar-view/event/16072-white-antiracism-g
 roup-wag.html
END:VEVENT
END:VCALENDAR
