BEGIN:VCALENDAR
VERSION:2.0
PRODID:-//https://eruuf.org///NONSGML kigkonsult.se iCalcreator 2.10.15//
METHOD:PUBLISH
BEGIN:VEVENT
UID:20260423T032902UTC-9520eTvcB2@https://eruuf.org/
DTSTAMP:20260423T032902Z
DESCRIPTION:Please see the document below for this meeting's schedule. Meet
 ing is held over Zoom (link below).\nMeeting ID: 587 833 0298Passcode: 273
 2\nJoin Meeting\n  https://eruuf.org/calendar/calendar-view/event/14697-bo
 ard-of-trustees-monthly-meeting.html
DTSTART:20260519T230000Z
DTEND:20260520T010000Z
LOCATION:Online  (Online meetings are organized by the group leader. See th
 e meeting event details for information on how to join.)
SUMMARY:Board of Trustees Monthly Meeting
URL:https://eruuf.org/calendar/calendar-view/event/14697-board-of-trustees-
 monthly-meeting.html
END:VEVENT
BEGIN:VEVENT
UID:20260423T032902UTC-9521zGVG0P@https://eruuf.org/
DTSTAMP:20260423T032902Z
DESCRIPTION:Remote meeting of the Nontheist Group. All are welcome to join!
 \nReach out to the Nontheist Group for more information and to recieve the
  Zoom link.  https://eruuf.org/calendar/calendar-view/event/15236-nontheis
 t-group-virtual-meeting.html
DTSTART:20260519T230000Z
DTEND:20260520T003000Z
LOCATION:Online  (Online meetings are organized by the group leader. See th
 e meeting event details for information on how to join.)
SUMMARY:Nontheist Group (Virtual Meeting)
URL:https://eruuf.org/calendar/calendar-view/event/15236-nontheist-group-vi
 rtual-meeting.html
END:VEVENT
BEGIN:VEVENT
UID:20260423T032902UTC-9522oUsXZu@https://eruuf.org/
DTSTAMP:20260423T032902Z
DESCRIPTION:The ERUUF Book Club meets next Tuesday\, May 19 at 7:00 PM onli
 ne via Zoom.\nWe are discussing Chasing Me to My Grave: An Artist's Memoir
  of the Jim Crow South by Winfred Rembert\, as told by Erin I. Kelly.  All
 \, especially first timers\, are invited for book discussion and fellowshi
 p.\n \nFUTURE ERUUF BOOK CLUB MEETINGS & TITLES  \n\n\n\n\nJune 16\, 2026
 \n\n\nA Town Without Time: Gay Talese's New York\n\n\nGay Talese\n\n\n\n\n
 July 21\, 2026\n\nRemarkably Bright Creatures\nShelby Van Pelt\n\n\n\nAugu
 st 18\, 2026\n\n\nChange\n\n\nEdouard Louis\, Translated by John Lambert\n
 \n\n\n\nSeptember 15\, 2026\n\n\nFever Beach\n\n\nCarl Hiaasen\n\n\n\n\nOc
 tober 20\, 2026\n\n\nThe Antidote\n\n\nKaren Russell\n\n\n\n\nNovember 17\
 , 2026\n\n\nCare and Feeding: A Memoir\n\n\nLaurie Woolever\n\n\n\n\nDecem
 ber 15 No Meeting Winter Holidays\n\n\n\n\nFor More Information and the Zo
 om link\, contact the ERUUF Book Club. https://eruuf.org/calendar/calendar
 -view/event/15307-eruuf-book-club.html
DTSTART:20260519T230000Z
DTEND:20260520T003000Z
LOCATION:Online  (Online meetings are organized by the group leader. See th
 e meeting event details for information on how to join.)
SUMMARY:ERUUF Book Club
URL:https://eruuf.org/calendar/calendar-view/event/15307-eruuf-book-club.ht
 ml
END:VEVENT
BEGIN:VEVENT
UID:20260423T032902UTC-9524ZuRIxs@https://eruuf.org/
DTSTAMP:20260423T032902Z
DESCRIPTION:The Heart of Justice Song Circle is a lay-led\, ERUUF music gro
 up. We learn songs mostly by call and response in the oral tradition. Musi
 cal styles range from folk to gospel to justice songs and beyond. We sing 
 songs that envision a world closely aligned with UU values\, centering lov
 e and calling for justice. Regardless of singing experience\, all ERUUF me
 mbers and friends are welcome to join us as we build community\, transform
 ing lives and nourishing spirits through song.\nFor more information\, ple
 ase contact the Heart of Justice Song Circle. https://eruuf.org/calendar/c
 alendar-view/event/16140-heart-of-justice-song-circle.html
DTSTART:20260519T230000Z
DTEND:20260520T003000Z
LOCATION:Commons Room   (4907 Garrett Rd\, Durham\, NC 27707  )
SUMMARY:Heart of Justice Song Circle  
URL:https://eruuf.org/calendar/calendar-view/event/16140-heart-of-justice-s
 ong-circle.html
END:VEVENT
END:VCALENDAR
