BEGIN:VCALENDAR
VERSION:2.0
PRODID:-//https://eruuf.org///NONSGML kigkonsult.se iCalcreator 2.10.15//
METHOD:PUBLISH
BEGIN:VEVENT
UID:20260422T130749UTC-2288Fjt6lz@https://eruuf.org/
DTSTAMP:20260422T130749Z
DESCRIPTION:A self-guided group of singers and acoustic instrumentalists.\n
 Our group is grounded in the folk style\, with songs chosen and arranged b
 y group members. \nEmail River Folk for more information!  https://eruuf.o
 rg/calendar/calendar-view/event/15374-river-folk-rehearsal.html
DTSTART:20260525T230000Z
DTEND:20260526T003000Z
LOCATION:ERUUF Fellowship Hall (4907 Garrett Road)
SUMMARY:River Folk Rehearsal
URL:https://eruuf.org/calendar/calendar-view/event/15374-river-folk-rehears
 al.html
END:VEVENT
BEGIN:VEVENT
UID:20260422T130749UTC-228964g162@https://eruuf.org/
DTSTAMP:20260422T130749Z
DESCRIPTION:ERUUFians are getting together to book a section of family camp
 sites in Poplar Point Campground on Jordan Lake from Friday\, May 22 to Mo
 nday\, May 25. \nFor more details (including which campsites to book)\, co
 ntact the RE Staff. https://eruuf.org/calendar/calendar-view/event/16216-f
 amily-camping-trip.html
DTSTART:20260522T130000Z
DTEND:20260526T010000Z
LOCATION:Offsite ()
SUMMARY:Family Camping Trip
URL:https://eruuf.org/calendar/calendar-view/event/16216-family-camping-tri
 p.html
END:VEVENT
END:VCALENDAR
