BEGIN:VCALENDAR
VERSION:2.0
PRODID:-//https://eruuf.org///NONSGML kigkonsult.se iCalcreator 2.10.15//
METHOD:PUBLISH
BEGIN:VEVENT
UID:20260423T033946UTC-0449G5OWmB@https://eruuf.org/
DTSTAMP:20260423T033946Z
DESCRIPTION:Learn the fundamentals of Tai Chi with relaxing and energizing 
 exercises. We will 'move to feel'\, learn that 'less is more' and explore 
 yin and yang in action. Classes will be outside when weather permits. Clas
 s taught by Nancy Couts.\nFor more information\, please send an email to N
 ancy Couts.  https://eruuf.org/calendar/calendar-view/event/15429-tai-chi-
 for-health-and-wellbeing.html
DTSTART:20260527T180000Z
DTEND:20260527T190000Z
LOCATION:ERUUF Fellowship Hall (4907 Garrett Road)
SUMMARY:Tai Chi for Health and Wellbeing
URL:https://eruuf.org/calendar/calendar-view/event/15429-tai-chi-for-health
 -and-wellbeing.html
END:VEVENT
BEGIN:VEVENT
UID:20260423T033946UTC-0450EDRXGa@https://eruuf.org/
DTSTAMP:20260423T033946Z
DESCRIPTION:Facilitated by Rev. Jacqueline Brett.\nThis spring\, over the c
 ourse of five sessions\, we'll cultivate our gifts for resilience by explo
 ring poems as sources that inspire us. The process will be twofold: readin
 g the work of others and writing our own works through practices of reflec
 tion\, presence\, healing\, and 'good medicine'.\nNo writing experience is
  necessary\, only an open heart and a commitment to process\, practice\, a
 ndpresence (for self and others).  Participants are asked to select a publ
 ished collection of poetry they find inspiring to work with over the cours
 e of the class. A list of collections to consider will be provided.\nThis 
 class is designed as a small-group community of practice rather than a dro
 p-in class. Please register in advance below.\nQuestions? Contact Michele 
 Sager\nRegister Here https://eruuf.org/calendar/calendar-view/event/16227-
 class-with-the-minister-poetry-as-sacred-practice.html
DTSTART:20260527T223000Z
DTEND:20260528T000000Z
LOCATION:Fellowship Hall   ()
SUMMARY:Class with the Minister: Poetry as Sacred Practice
URL:https://eruuf.org/calendar/calendar-view/event/16227-class-with-the-min
 ister-poetry-as-sacred-practice.html
END:VEVENT
END:VCALENDAR
