BEGIN:VCALENDAR
VERSION:2.0
PRODID:-//https://eruuf.org///NONSGML kigkonsult.se iCalcreator 2.10.15//
METHOD:PUBLISH
BEGIN:VEVENT
UID:20260423T015716UTC-7244MXHUU2@https://eruuf.org/
DTSTAMP:20260423T015716Z
DESCRIPTION:Join Earth Justice and Communecos for our monthly potluck suppe
 r and movie\, Friday May 8\, Fellowship Hall\n6:30-7:00: Vegan potluck sup
 per (please bring a dish if you can\; if not\, come anyway)\n7:00-8:15: Sh
 owing of 'Breaking Boundaries: The Science of Our Planet'\n8:15-8:45: Disc
 ussion\nFor more information\, contact the Earth Justice Team. https://eru
 uf.org/calendar/calendar-view/event/16238-earth-justice-film-potluck.html
DTSTART:20260529T223000Z
DTEND:20260530T004500Z
LOCATION:Fellowship Hall   ()
SUMMARY:Earth Justice Film & Potluck
URL:https://eruuf.org/calendar/calendar-view/event/16238-earth-justice-film
 -potluck.html
END:VEVENT
END:VCALENDAR
