BEGIN:VCALENDAR
VERSION:2.0
PRODID:-//https://eruuf.org///NONSGML kigkonsult.se iCalcreator 2.10.15//
METHOD:PUBLISH
BEGIN:VEVENT
UID:20260425T161540UTC-8290GRvrgC@https://eruuf.org/
DTSTAMP:20260425T161540Z
DESCRIPTION:Are you in Grades 4-8 and would like to participate in the Chal
 ice Singers? Join us starting Sun.\, Sept. 7 between services!\nFor more i
 nformation\, email chalicesingers@eruuf.org.  https://eruuf.org/calendar/c
 alendar-view/event/15837-chalice-singers-choir-rehearsal.html
DTSTART:20260607T141500Z
DTEND:20260607T145000Z
LOCATION:ERUUF Campus   (4907 Garrett Rd\, Durham\, NC 27707    )
SUMMARY:Chalice Singers Choir Rehearsal
URL:https://eruuf.org/calendar/calendar-view/event/15837-chalice-singers-ch
 oir-rehearsal.html
END:VEVENT
BEGIN:VEVENT
UID:20260425T161540UTC-8292C06JP4@https://eruuf.org/
DTSTAMP:20260425T161540Z
DESCRIPTION:On Sunday February 1\, at 3 pm\, we will have an informal Zoom 
 chat. To receive the Zoom link\, please send an email to pride@eruuf.org. 
 https://eruuf.org/calendar/calendar-view/event/16149-pride-zoom-chat.html
DTSTART:20260607T190000Z
DTEND:20260607T200000Z
LOCATION:Online  (Online meetings are organized by the group leader. See th
 e meeting event details for information on how to join.)
SUMMARY:Pride+ Zoom Chat
URL:https://eruuf.org/calendar/calendar-view/event/16149-pride-zoom-chat.ht
 ml
END:VEVENT
END:VCALENDAR
