BEGIN:VCALENDAR
VERSION:2.0
PRODID:-//https://eruuf.org///NONSGML kigkonsult.se iCalcreator 2.10.15//
METHOD:PUBLISH
BEGIN:VEVENT
UID:20260423T153145UTC-5612Diosbo@https://eruuf.org/
DTSTAMP:20260423T153145Z
DESCRIPTION:Join the Trans @ ERUUF group for conversations on the trans and
  nonbinary experience both at ERUUF and in the larger world.\nFor more inf
 ormation\, please email trans@eruuf.org. https://eruuf.org/calendar/calend
 ar-view/event/16058-trans-eruuf.html
DTSTART:20260719T163000Z
DTEND:20260719T180000Z
LOCATION:Room 3 - CARE Building ()
SUMMARY:Trans @ ERUUF
URL:https://eruuf.org/calendar/calendar-view/event/16058-trans-eruuf.html
END:VEVENT
BEGIN:VEVENT
UID:20260423T153145UTC-5614Km8pMu@https://eruuf.org/
DTSTAMP:20260423T153145Z
DESCRIPTION:WAG is an intentional space for people who identify as white to
  work on dismantling the internalized white supremacy in our bodies\, feel
 ings\, thoughts\, and behaviors. We acknowledge that the systems and struc
 tures of our culture were designed to uphold white supremacy and that whit
 e supremacy is violence. We take responsibility for transforming our bodie
 s\, feelings\, thoughts\, and behaviors from upholding the dominant cultur
 e toward the work of collective liberation for all. WAG\, as a racial iden
 tity caucus group\, is sibling to the Black\, Indigenous and People of Col
 or (BIPOC) group.\n \nPlease contact the White Antiracism Group for more i
 nformaiton. https://eruuf.org/calendar/calendar-view/event/16074-white-ant
 iracism-group-wag.html
DTSTART:20260719T170000Z
DTEND:20260719T183000Z
LOCATION:Commons Room   (4907 Garrett Rd\, Durham\, NC 27707  )
SUMMARY:White Antiracism Group (WAG)
URL:https://eruuf.org/calendar/calendar-view/event/16074-white-antiracism-g
 roup-wag.html
END:VEVENT
BEGIN:VEVENT
UID:20260423T153145UTC-5617xb6IMb@https://eruuf.org/
DTSTAMP:20260423T153145Z
DESCRIPTION:Every summer a series of beloved ERUUFians present the story of
  their personal and/or spiritual quests. Early childhood memories\, import
 ant forks in the road\, significant events\, and a few funny anecdotes are
  part of the presentations.\nFor more information\, contact the Adult Prog
 rams Team. https://eruuf.org/calendar/calendar-view/event/16204-spiritual-
 odyssey.html
DTSTART:20260719T130000Z
DTEND:20260719T140000Z
LOCATION:Commons Room   (4907 Garrett Rd\, Durham\, NC 27707  )
SUMMARY:Spiritual Odyssey
URL:https://eruuf.org/calendar/calendar-view/event/16204-spiritual-odyssey.
 html
END:VEVENT
END:VCALENDAR
