BEGIN:VCALENDAR
VERSION:2.0
PRODID:-//https://eruuf.org///NONSGML kigkonsult.se iCalcreator 2.10.15//
METHOD:PUBLISH
BEGIN:VEVENT
UID:20260426T015000UTC-8495sWvXuW@https://eruuf.org/
DTSTAMP:20260426T015000Z
DESCRIPTION:Please see the document below for this meeting's schedule. Meet
 ing is held over Zoom (link below).\nMeeting ID: 587 833 0298Passcode: 273
 2\nJoin Meeting\n  https://eruuf.org/calendar/calendar-view/event/14699-bo
 ard-of-trustees-monthly-meeting.html
DTSTART:20260721T230000Z
DTEND:20260722T010000Z
LOCATION:Online  (Online meetings are organized by the group leader. See th
 e meeting event details for information on how to join.)
SUMMARY:Board of Trustees Monthly Meeting
URL:https://eruuf.org/calendar/calendar-view/event/14699-board-of-trustees-
 monthly-meeting.html
END:VEVENT
BEGIN:VEVENT
UID:20260426T015000UTC-84966VPHer@https://eruuf.org/
DTSTAMP:20260426T015000Z
DESCRIPTION:The ERUUF Book Club meets next Tuesday\, July 21 at 7:00 PM onl
 ine via Zoom.\nWe are discussing Remarkably Bright Creatures by Shelby Van
  Pelt.  All\, especially first timers\, are invited for book discussion an
 d fellowship.\n \nFUTURE ERUUF BOOK CLUB MEETINGS & TITLES  \n\n\n\n\nAugu
 st 18\, 2026\n\n\nChange\n\n\nEdouard Louis\, Translated by John Lambert\n
 \n\n\n\nSeptember 15\, 2026\n\n\nFever Beach\n\n\nCarl Hiaasen\n\n\n\n\nOc
 tober 20\, 2026\n\n\nThe Antidote\n\n\nKaren Russell\n\n\n\n\nNovember 17\
 , 2026\n\n\nCare and Feeding: A Memoir\n\n\nLaurie Woolever\n\n\n\n\nDecem
 ber 15 No Meeting Winter Holidays\n\n\n\n\nFor More Information and the Zo
 om link\, contact the ERUUF Book Club. https://eruuf.org/calendar/calendar
 -view/event/16178-eruuf-book-club.html
DTSTART:20260721T230000Z
DTEND:20260722T003000Z
LOCATION:Online  (Online meetings are organized by the group leader. See th
 e meeting event details for information on how to join.)
SUMMARY:ERUUF Book Club
URL:https://eruuf.org/calendar/calendar-view/event/16178-eruuf-book-club.ht
 ml
END:VEVENT
END:VCALENDAR
