BEGIN:VCALENDAR
VERSION:2.0
PRODID:-//https://eruuf.org///NONSGML kigkonsult.se iCalcreator 2.10.15//
METHOD:PUBLISH
BEGIN:VEVENT
UID:20260425T131754UTC-6296vz5V0j@https://eruuf.org/
DTSTAMP:20260425T131754Z
DESCRIPTION:Please see the document below for this meeting's schedule. Meet
 ing is held over Zoom (link below).\nMeeting ID: 587 833 0298Passcode: 273
 2\nJoin Meeting\n  https://eruuf.org/calendar/calendar-view/event/14701-bo
 ard-of-trustees-monthly-meeting.html
DTSTART:20260915T230000Z
DTEND:20260916T010000Z
LOCATION:Online  (Online meetings are organized by the group leader. See th
 e meeting event details for information on how to join.)
SUMMARY:Board of Trustees Monthly Meeting
URL:https://eruuf.org/calendar/calendar-view/event/14701-board-of-trustees-
 monthly-meeting.html
END:VEVENT
BEGIN:VEVENT
UID:20260425T131754UTC-6298fvmamn@https://eruuf.org/
DTSTAMP:20260425T131754Z
DESCRIPTION:The ERUUF Book Club meets next Tuesday\, September 15 at 7:00 P
 M online via Zoom.\nWe are discussing Fever Beach by Carl Hiaasen.  All\, 
 especially first timers\, are invited for book discussion and fellowship.
 \n \nFUTURE ERUUF BOOK CLUB MEETINGS & TITLES  \n\n\n\n\nOctober 20\, 2026
 \n\n\nThe Antidote\n\n\nKaren Russell\n\n\n\n\nNovember 17\, 2026\n\n\nCar
 e and Feeding: A Memoir\n\n\nLaurie Woolever\n\n\n\n\nDecember 15 No Meeti
 ng Winter Holidays\n\n\n\n\nFor More Information and the Zoom link\, conta
 ct the ERUUF Book Club. https://eruuf.org/calendar/calendar-view/event/161
 80-eruuf-book-club.html
DTSTART:20260915T230000Z
DTEND:20260916T003000Z
LOCATION:Online  (Online meetings are organized by the group leader. See th
 e meeting event details for information on how to join.)
SUMMARY:ERUUF Book Club
URL:https://eruuf.org/calendar/calendar-view/event/16180-eruuf-book-club.ht
 ml
END:VEVENT
END:VCALENDAR
