BEGIN:VCALENDAR
VERSION:2.0
PRODID:-//https://eruuf.org///NONSGML kigkonsult.se iCalcreator 2.10.15//
METHOD:PUBLISH
BEGIN:VEVENT
UID:20260425T131110UTC-9850GU6bV3@https://eruuf.org/
DTSTAMP:20260425T131110Z
DESCRIPTION:Please see the document below for this meeting's schedule. Meet
 ing is held over Zoom (link below).\nMeeting ID: 587 833 0298Passcode: 273
 2\nJoin Meeting\n  https://eruuf.org/calendar/calendar-view/event/14702-bo
 ard-of-trustees-monthly-meeting.html
DTSTART:20261020T230000Z
DTEND:20261021T010000Z
LOCATION:Online  (Online meetings are organized by the group leader. See th
 e meeting event details for information on how to join.)
SUMMARY:Board of Trustees Monthly Meeting
URL:https://eruuf.org/calendar/calendar-view/event/14702-board-of-trustees-
 monthly-meeting.html
END:VEVENT
BEGIN:VEVENT
UID:20260425T131110UTC-9852p3urA9@https://eruuf.org/
DTSTAMP:20260425T131110Z
DESCRIPTION:The ERUUF Book Club meets next Tuesday\, October 20 at 7:00 PM 
 online via Zoom.\nWe are discussing The Antidote by Karen Russell.  All\, 
 especially first timers\, are invited for book discussion and fellowship.
 \n \nFUTURE ERUUF BOOK CLUB MEETINGS & TITLES  \n\n\n\n\nNovember 17\, 202
 6\n\n\nCare and Feeding: A Memoir\n\n\nLaurie Woolever\n\n\n\n\nDecember 1
 5 No Meeting Winter Holidays\n\n\n\n\nFor More Information and the Zoom li
 nk\, contact the ERUUF Book Club. https://eruuf.org/calendar/calendar-view
 /event/16181-eruuf-book-club.html
DTSTART:20261020T230000Z
DTEND:20261021T003000Z
LOCATION:Online  (Online meetings are organized by the group leader. See th
 e meeting event details for information on how to join.)
SUMMARY:ERUUF Book Club
URL:https://eruuf.org/calendar/calendar-view/event/16181-eruuf-book-club.ht
 ml
END:VEVENT
END:VCALENDAR
