BEGIN:VCALENDAR
VERSION:2.0
PRODID:-//https://eruuf.org///NONSGML kigkonsult.se iCalcreator 2.10.15//
METHOD:PUBLISH
BEGIN:VEVENT
UID:20260422T070010UTC-1407WLKcHu@https://eruuf.org/
DTSTAMP:20260422T070010Z
DESCRIPTION: ERUUF retirees and seniors gather for companionship and good c
 onversation\, each meeting being directed by one of the members. Bring a s
 ack lunch.  https://eruuf.org/calendar/calendar-view/event/1004-eruuf-seni
 ors.html
DTSTART:20151111T163000Z
DTEND:20151111T180000Z
LOCATION:Room 1 - CARE Building ()
SUMMARY:ERUUF Seniors
URL:https://eruuf.org/calendar/calendar-view/event/1004-eruuf-seniors.html
END:VEVENT
END:VCALENDAR
