BEGIN:VCALENDAR
VERSION:2.0
PRODID:-//https://eruuf.org///NONSGML kigkonsult.se iCalcreator 2.10.15//
METHOD:PUBLISH
BEGIN:VEVENT
UID:20260421T170208UTC-8735aVFutD@https://eruuf.org/
DTSTAMP:20260421T170208Z
DESCRIPTION: ERUUF retirees and seniors gather for companionship and good c
 onversation\, each meeting being directed by one of the members. Bring a s
 ack lunch.  https://eruuf.org/calendar/calendar-view/event/1010-eruuf-seni
 ors.html
DTSTART:20150513T153000Z
DTEND:20150513T170000Z
LOCATION:Room 1 - CARE Building ()
SUMMARY:ERUUF Seniors
URL:https://eruuf.org/calendar/calendar-view/event/1010-eruuf-seniors.html
END:VEVENT
END:VCALENDAR
