BEGIN:VCALENDAR
VERSION:2.0
PRODID:-//https://eruuf.org///NONSGML kigkonsult.se iCalcreator 2.10.15//
METHOD:PUBLISH
BEGIN:VEVENT
UID:20260422T151248UTC-3259ZMbAWU@https://eruuf.org/
DTSTAMP:20260422T151248Z
DESCRIPTION:As part of our Green Sanctuary Accreditation\, Religious Educat
 ion participants and volunteers are caring for the ERUUF community garden 
 beds this summer.\nOver the last month\, we've repaired the garden boxes\,
  weeded\, added new soil\, and built three trellises for the raised beds. 
 Sunday\, June 6\, 2021\, is our first official R.E. day in the gardens\, a
 nd we'll be planting tomatoes\, okra\, basil\, sunflowers\, marigolds\, an
 d squash seedlings. If you are interested in gardening with us\, please si
 gn up here.\nWe'll be gathering from 9:30-10:30 am on the 1st and 3rd Sund
 ays of June-August\, and we can use many adult hands supporting our childr
 en and youth in the gardens. It will be fun and promises to be a meaningfu
 l way to start reconnecting with the ERUUF community after a long year apa
 rt. https://eruuf.org/calendar/calendar-view/event/10292-r-e-summer-in-the
 -garden.html
DTSTART:20210606T133000Z
DTEND:20210606T143000Z
LOCATION:ERUUF Campus   (4907 Garrett Rd\, Durham\, NC 27707    )
SUMMARY:R.E. Summer in the Garden
URL:https://eruuf.org/calendar/calendar-view/event/10292-r-e-summer-in-the-
 garden.html
END:VEVENT
END:VCALENDAR
