BEGIN:VCALENDAR
VERSION:2.0
PRODID:-//https://eruuf.org///NONSGML kigkonsult.se iCalcreator 2.10.15//
METHOD:PUBLISH
BEGIN:VEVENT
UID:20260423T190426UTC-5836RNmVSG@https://eruuf.org/
DTSTAMP:20260423T190426Z
DESCRIPTION: https://eruuf.org/calendar/calendar-view/event/10315-girl-scou
 t-troop-693.html
DTSTART:20220102T190000Z
DTEND:20220102T210000Z
LOCATION:Outside Zone 4\, CARE Building Picnic Area ()
SUMMARY:Girl Scout Troop 693
URL:https://eruuf.org/calendar/calendar-view/event/10315-girl-scout-troop-6
 93.html
END:VEVENT
END:VCALENDAR
