BEGIN:VCALENDAR
VERSION:2.0
PRODID:-//https://eruuf.org///NONSGML kigkonsult.se iCalcreator 2.10.15//
METHOD:PUBLISH
BEGIN:VEVENT
UID:20260425T023441UTC-6986Z7eov4@https://eruuf.org/
DTSTAMP:20260425T023441Z
DESCRIPTION: https://eruuf.org/calendar/calendar-view/event/10323-girl-scou
 t-troop-693.html
DTSTART:20210919T180000Z
DTEND:20210919T200000Z
LOCATION:Outside Zone 4\, CARE Building Picnic Area ()
SUMMARY:Girl Scout Troop 693
URL:https://eruuf.org/calendar/calendar-view/event/10323-girl-scout-troop-6
 93.html
END:VEVENT
END:VCALENDAR
