BEGIN:VCALENDAR
VERSION:2.0
PRODID:-//https://eruuf.org///NONSGML kigkonsult.se iCalcreator 2.10.15//
METHOD:PUBLISH
BEGIN:VEVENT
UID:20260424T235642UTC-5292gOJv3P@https://eruuf.org/
DTSTAMP:20260424T235642Z
DESCRIPTION: https://eruuf.org/calendar/calendar-view/event/10328-girl-scou
 t-troop-693.html
DTSTART:20220220T190000Z
DTEND:20220220T210000Z
LOCATION:Outside Zone 4\, CARE Building Picnic Area ()
SUMMARY:Girl Scout Troop 693
URL:https://eruuf.org/calendar/calendar-view/event/10328-girl-scout-troop-6
 93.html
END:VEVENT
END:VCALENDAR
