BEGIN:VCALENDAR
VERSION:2.0
PRODID:-//https://eruuf.org///NONSGML kigkonsult.se iCalcreator 2.10.15//
METHOD:PUBLISH
BEGIN:VEVENT
UID:20260426T034600UTC-6538nvhatu@https://eruuf.org/
DTSTAMP:20260426T034600Z
DESCRIPTION: https://eruuf.org/calendar/calendar-view/event/10329-girl-scou
 t-troop-693.html
DTSTART:20220320T180000Z
DTEND:20220320T200000Z
LOCATION:Outside Zone 4\, CARE Building Picnic Area ()
SUMMARY:Girl Scout Troop 693
URL:https://eruuf.org/calendar/calendar-view/event/10329-girl-scout-troop-6
 93.html
END:VEVENT
END:VCALENDAR
