BEGIN:VCALENDAR
VERSION:2.0
PRODID:-//https://eruuf.org///NONSGML kigkonsult.se iCalcreator 2.10.15//
METHOD:PUBLISH
BEGIN:VEVENT
UID:20260423T154239UTC-5433oABnLS@https://eruuf.org/
DTSTAMP:20260423T154239Z
DESCRIPTION:The Stewardship Steering Team serves as a consulting and coordi
 nating group for stewardship activities at ERUUF with the primary goal of 
 enhancing the culture of generosity at ERUUF.  More information about stew
 ardship can be found here. https://eruuf.org/calendar/calendar-view/event/
 10333-stewardship-steering-team.html
DTSTART:20210803T190000Z
DTEND:20210803T203000Z
LOCATION:Room 1 - CARE Building ()
SUMMARY:Stewardship Steering Team
URL:https://eruuf.org/calendar/calendar-view/event/10333-stewardship-steeri
 ng-team.html
END:VEVENT
END:VCALENDAR
