BEGIN:VCALENDAR
VERSION:2.0
PRODID:-//https://eruuf.org///NONSGML kigkonsult.se iCalcreator 2.10.15//
METHOD:PUBLISH
BEGIN:VEVENT
UID:20260422T005610UTC-0284HHxmzJ@https://eruuf.org/
DTSTAMP:20260422T005610Z
DESCRIPTION:The Stewardship Steering Team serves as a consulting and coordi
 nating group for stewardship activities at ERUUF with the primary goal of 
 enhancing the culture of generosity at ERUUF.  More information about stew
 ardship can be found here. https://eruuf.org/calendar/calendar-view/event/
 10337-stewardship-steering-team.html
DTSTART:20220405T190000Z
DTEND:20220405T203000Z
LOCATION:Room 1 - CARE Building ()
SUMMARY:Stewardship Steering Team
URL:https://eruuf.org/calendar/calendar-view/event/10337-stewardship-steeri
 ng-team.html
END:VEVENT
END:VCALENDAR
