BEGIN:VCALENDAR
VERSION:2.0
PRODID:-//https://eruuf.org///NONSGML kigkonsult.se iCalcreator 2.10.15//
METHOD:PUBLISH
BEGIN:VEVENT
UID:20260422T095937UTC-19082GfeVK@https://eruuf.org/
DTSTAMP:20260422T095937Z
DESCRIPTION:How does money play a role in your life? How does it connect yo
 u to other people and the world? How does it shape society? And how do we 
 find ourselves interconnected in a network through money? Join in a lively
  discussion about money\, the meaning of money in our lives\, and the cult
 ural lessons we have learned about money and wealth. These three sessions 
 from the UUA’s Wisdom Path curriculum continue the discussions started las
 t spring and move further into a world view of money. Attendance at previo
 us sessions is not required or necessary\; Facilitators: Cindy Kuhn and Be
 th HarvatTo help us better plan for this course\, please register at the l
 ink below.Session 1 - September 12\, 2021\, 9:30 am: The Many Meanings of 
 Money Session 2 - September 19\, 2021\, 9:30 am: Money and Society Session
  3 - September 26\, 2021\, 9:30 am: A Network of Mutuality\n \nRegister No
 w! https://eruuf.org/calendar/calendar-view/event/10704-the-wisdom-path-a-
 conversation-about-money.html
DTSTART:20210926T133025Z
DTEND:20210926T144500Z
LOCATION:Online (Zoom) (Scroll down to join or register.) ()
SUMMARY:The Wisdom Path: A Conversation about Money
URL:https://eruuf.org/calendar/calendar-view/event/10704-the-wisdom-path-a-
 conversation-about-money.html
END:VEVENT
END:VCALENDAR
