BEGIN:VCALENDAR
VERSION:2.0
PRODID:-//https://eruuf.org///NONSGML kigkonsult.se iCalcreator 2.10.15//
METHOD:PUBLISH
BEGIN:VEVENT
UID:20260420T091235UTC-5649ZexhXU@https://eruuf.org/
DTSTAMP:20260420T091235Z
DESCRIPTION:Sustaining Ourselves: Spiritual Practices for Safety\, Justice\
 , Healing and Compassion  - Saturday\, September 18th\, 9:00 - 11:00 am\n
 \nWhat do we each most need as we move into yet another season requiring t
 hat we expand our inner capacity for resilience? How might we radically re
 imagine what it means to be in community while holding safety\, justice\, 
 healing\, and compassion at the center? This year our spiritual practice c
 lass will be guided by The Book of Soul: 52 Paths to Living What Matters\,
  by Mark Nepo. Classes are led by Rev. Jacqueline Brett on the third Satur
 day of each month from 9:00 – 11:00 am. In each session\, we’ll engage spi
 ritual practices as we explore key points of the book. The book is availab
 le at local indie bookstores\, on Amazon in print or e-book format\, or as
  an audiobook at the Durham County Library or on audible.com. It is sugges
 ted that you engage with the print format if possible. Please contact Rev.
  Brett if you’re in need of financial assistance to purchase the book.  Pa
 rticipants attending the September class are asked to register below and r
 ead the introduction and chapters 1-4 prior to class and journal their tho
 ughts along the way. At this time we plan to offer the class in hybrid (li
 ve and online) format\, though this will be confirmed the week before the 
 start of class. Questions? Contact: Rev. Brett or Michele SagerRegister No
 w \n https://eruuf.org/calendar/calendar-view/event/10706-sustaining-ourse
 lves-spiritual-practices-for-safety-justice-healing-and-compassion.html
DTSTART:20210918T130000Z
DTEND:20210918T150000Z
LOCATION:Hybrid Meeting (Scroll down to learn more) ()
SUMMARY:Sustaining Ourselves: Spiritual Practices for Safety\, Justice\, He
 aling and Compassion
URL:https://eruuf.org/calendar/calendar-view/event/10706-sustaining-ourselv
 es-spiritual-practices-for-safety-justice-healing-and-compassion.html
END:VEVENT
END:VCALENDAR
