BEGIN:VCALENDAR
VERSION:2.0
PRODID:-//https://eruuf.org///NONSGML kigkonsult.se iCalcreator 2.10.15//
METHOD:PUBLISH
BEGIN:VEVENT
UID:20260424T141630UTC-1691j5ka8h@https://eruuf.org/
DTSTAMP:20260424T141630Z
DESCRIPTION:Thursdays (9/30\, 10/14)\, 11:30 am and Saturdays (10/2\,10/16)
 \, 2:00 pm via Zoom (click below to register)Learn about important Environ
 mental Justice issues! Come read with the Earth Justice Action Group! In t
 he spring\, we read Braiding Sweetgrass by Robin Wall Kimmerer and enjoyed
  inspiring discussions.This fall\, we’re reading Waste by Catherine Colema
 n Flowers. Ms. Flowers grew up in Lowndes County\, Alabama\, is a renowned
  environmental justice advocate\, and has been awarded a MacArthur “Genius
 ” grant.Two groups will meet virtually during September and October to dis
 cuss the book\; you may join either or both groups or switch between them.
  Financial assistance is available for acquiring the book. This activity i
 s part of ERUUF’s Green Sanctuary accreditation.Please join us! Register b
 elow. Questions? Need more information? Contact: Cheryl Turney.Register No
 w https://eruuf.org/calendar/calendar-view/event/10710-earth-justice-group
 -read-waste.html
DTSTART:20210930T153000Z
DTEND:20210930T163000Z
LOCATION:Online (Zoom) (Scroll down to join or register.) ()
SUMMARY:Earth Justice Group Read  - Waste
URL:https://eruuf.org/calendar/calendar-view/event/10710-earth-justice-grou
 p-read-waste.html
END:VEVENT
END:VCALENDAR
