BEGIN:VCALENDAR
VERSION:2.0
PRODID:-//https://eruuf.org///NONSGML kigkonsult.se iCalcreator 2.10.15//
METHOD:PUBLISH
BEGIN:VEVENT
UID:20260424T055917UTC-1208Kj3HBK@https://eruuf.org/
DTSTAMP:20260424T055917Z
DESCRIPTION:Join ERUUF's Earth Justice Action Group for their fall 2021 fil
 m series\, The Human Species and the Web of Life. Register Below for Zoom 
 Link.\nSeptember 19: David Attenborough: A Life on Our Planet\nOctober 17:
  Fantastic Fungi\nNovember 21: My Octopus Teacher\nAll three films are ava
 ilable on Netflix. Please watch on your own before the dates given above. 
 We will meet at 2:30 pm via Zoom to discuss the films on those dates. Sign
  up to join the Zoom discussion below.\nRegister Now https://eruuf.org/cal
 endar/calendar-view/event/10714-earth-justice-action-group-fall-film-serie
 s.html
DTSTART:20211121T193000Z
DTEND:20211121T203000Z
LOCATION:Online (Zoom) (Scroll down to join or register.) ()
SUMMARY:Earth Justice Action Group - Fall Film Series
URL:https://eruuf.org/calendar/calendar-view/event/10714-earth-justice-acti
 on-group-fall-film-series.html
END:VEVENT
END:VCALENDAR
