BEGIN:VCALENDAR
VERSION:2.0
PRODID:-//https://eruuf.org///NONSGML kigkonsult.se iCalcreator 2.10.15//
METHOD:PUBLISH
BEGIN:VEVENT
UID:20260425T202904UTC-1538fUxVNX@https://eruuf.org/
DTSTAMP:20260425T202904Z
DESCRIPTION:We want to hear from you! Help us round out our Congregational 
 Record by filling out this survey. It's a long survey\, so please allow 15
 -20 minutes to fill it out. The survey will close on September 27\, 2021. 
 \nThe survey was put together by the Search Committee with assistance from
  the UUA. All raw data are confidential. A summary and analysis will be us
 ed to inform the Congregational Record and will be reported out to the con
 gregation. If you have questions or concerns\, please contact the Minister
 ial Search Committee at ministersearch@eruuf.org. https://eruuf.org/calend
 ar/calendar-view/event/10715-deadline-for-ministerial-search-committee-sur
 vey.html
DTSTART;VALUE=DATE:20210927
LOCATION:Online  (Online meetings are organized by the group leader. See th
 e meeting event details for information on how to join.)
SUMMARY:DEADLINE for Ministerial Search Committee Survey
URL:https://eruuf.org/calendar/calendar-view/event/10715-deadline-for-minis
 terial-search-committee-survey.html
END:VEVENT
END:VCALENDAR
