BEGIN:VCALENDAR
VERSION:2.0
PRODID:-//https://eruuf.org///NONSGML kigkonsult.se iCalcreator 2.10.15//
METHOD:PUBLISH
BEGIN:VEVENT
UID:20260425T184122UTC-13284t2TB8@https://eruuf.org/
DTSTAMP:20260425T184122Z
DESCRIPTION:You are warmly invited to join the Eno River CUUPS online in ce
 lebrating Mabon / Autumn Equinox\, the sacred Balance of Day and Night\, L
 ight and Dark\, all over Planet Earth.The nights grow longer and the days 
 are shorter and cooler. The sap of trees returns to their roots deep under
 ground\, changing the green of summer to the fire of autumn. Traditionally
 \, this powerful season is commemorated as the Second Harvest\, honoring t
 he cornucopia of fruits and vegetables that flows in such bounty all aroun
 d us at this time of year.Come celebrate Mother Earth's precious gifts of 
 sweetness and nourishment\, beauty and balance. This gathering is open to 
 all like-hearted adults. Contact Lila Rosa to register or for more informa
 tion.\n  https://eruuf.org/calendar/calendar-view/event/10717-eno-river-cu
 ups-autumn-equinox-celebration.html
DTSTART:20210926T180000Z
DTEND:20210926T193000Z
LOCATION:Online (Zoom) (Scroll down to join or register.) ()
SUMMARY:Eno River CUUPS Autumn Equinox Celebration
URL:https://eruuf.org/calendar/calendar-view/event/10717-eno-river-cuups-au
 tumn-equinox-celebration.html
END:VEVENT
END:VCALENDAR
