BEGIN:VCALENDAR
VERSION:2.0
PRODID:-//https://eruuf.org///NONSGML kigkonsult.se iCalcreator 2.10.15//
METHOD:PUBLISH
BEGIN:VEVENT
UID:20260422T193554UTC-6716Uu9RpU@https://eruuf.org/
DTSTAMP:20260422T193554Z
DESCRIPTION:\nMake Your Voice Heard! The Ministerial Search Committee is ho
 lding a series of focus groups and listening sessions to help us in the se
 lection of our next lead minister. These gatherings are not discussion gro
 ups\, but rather information-gathering sessions. This is your chance to gi
 ve direct input to the Search Committee: sign up and make your voice heard
 !\n\nPlease register below for the session you want to attend. If you have
  any questions\, feel free to contact Diane Blount or Lisa Jones at minist
 ersearch@eruuf.org.\n \n9:30 am Sessions\nParents Group (Outside the Care 
 building): October 17\, 9:30 am\n11:00 am Sessions\nMiddle and High School
  Youth (Outside the Care building): October 17\, 11:00 am\n1:00 pm Session
 s\n \nBIPOC: September 19\, 1:00 pmListening Session: September 26\, 1:00 
 pm\n \n2:00 pm Sessions\n \nListening Session: September 24\, 2:00 pm\nERU
 UF Seniors: September 27\, 2:00 pm\nStewardship/Coordinating Team: October
  4\, 2:00 pm\nChalice Circles & Covenant Groups: October 7\, 2:00 pm\n \n
 \n\n2:30 pm Sessions\n \nListening Session: September 26\, 2:30 pm\n \n\n 
 \n7:00 pm Sessions\n \nMusic: September 22\, 7:00 pmGreeters and Visitor H
 osts: September 23\, 7:00 pmMusic: September 30\, 7:00 pmChalice Circles &
  Covenant Groups: October 4\, 7:00 pmBoard of Trustees: October 5\, 7:00 p
 mJustice/Earth Justice/Immigration: October 6\, 7:00 pmJustice/Earth Justi
 ce/Immigration: October 7\, 7:00 pmListening Session: October 12\, 7:00 pm
 Healthy Congregations/Worship Associates/Nominating Committee: October 19\
 , 7:00 pm20’s/30’s Group: October 20\, 7:00 pm\n \n8:00 pm Sessions\n \nMe
 mbership: October 11\, 8:00 pm\n\n \n\n \n \nRegister Now https://eruuf.or
 g/calendar/calendar-view/event/10738-ministerial-search-committee-focus-gr
 oups-listening-sessions.html
DTSTART:20211017T133000Z
DTEND:20211017T143000Z
LOCATION:Online (Zoom) (Scroll down to join or register.) ()
SUMMARY:Ministerial Search Committee: Focus Groups & Listening Sessions
URL:https://eruuf.org/calendar/calendar-view/event/10738-ministerial-search
 -committee-focus-groups-listening-sessions.html
END:VEVENT
END:VCALENDAR
