BEGIN:VCALENDAR
VERSION:2.0
PRODID:-//https://eruuf.org///NONSGML kigkonsult.se iCalcreator 2.10.15//
METHOD:PUBLISH
BEGIN:VEVENT
UID:20260423T183338UTC-3462gu95zk@https://eruuf.org/
DTSTAMP:20260423T183338Z
DESCRIPTION:On Friday\, October 22\, and Saturday\, October 23\, ERUUF will
  participate in the Beyond Categorical Thinking workshop offered by the Un
 itarian Universalist Association (UUA) for congregations involved in the s
 earch for a new minister. ERUUF's Ministerial Search Committee invites all
  congregational leaders\, members\, and friends to participate in this wor
 kshop.The Beyond Categorical Thinking program is designed to promote inclu
 sive thinking and help prevent unfair discrimination in the search process
  for a new minister. This program includes a three-hour workshop with Rev.
  Keith Kron of the UUA. In the workshop\, Eno River Unitarian Universalist
  Fellowship members will:\n\nConsider the hopes\, expectations\, and conce
 rns they have for a new minister\nLearn more about the ministerial search 
 process\, and\nExplore how thinking categorically about people sometimes i
 nterferes with choosing the best candidate.\n\nJoin our Zoom session on Fr
 iday\, October 22 from 7:00-8:30 pm and Saturday\, October 23 from 10:00-1
 1:30 am to participate in this UUA-sponsored workshop\, led by Rev. Keith 
 Kron (Register below). Rev. Kron will also be our speaker during the servi
 ce on October 24.The selection of a minister is important. This workshop i
 s another opportunity for everyone in our congregation to be a part of tha
 t process. This experience will provide guidance for the search committee 
 in our work. If you have any questions\, feel free to contact Diane Blount
  or Lisa Jones at ministersearch@eruuf.org. \n \nRegister Now https://eruu
 f.org/calendar/calendar-view/event/10795-beyond-categorical-thinking-works
 hop.html
DTSTART:20211023T140000Z
DTEND:20211023T153000Z
LOCATION:Online (Zoom) (Scroll down to join or register.) ()
SUMMARY:Beyond Categorical Thinking Workshop
URL:https://eruuf.org/calendar/calendar-view/event/10795-beyond-categorical
 -thinking-workshop.html
END:VEVENT
END:VCALENDAR
