BEGIN:VCALENDAR
VERSION:2.0
PRODID:-//https://eruuf.org///NONSGML kigkonsult.se iCalcreator 2.10.15//
METHOD:PUBLISH
BEGIN:VEVENT
UID:20260423T114641UTC-304979v5En@https://eruuf.org/
DTSTAMP:20260423T114641Z
DESCRIPTION:Come join us with your knitting or crocheting project for fun\,
  fellowship and learning about our ministry of giving to the community thr
 ough our hearts and hands. Contact LaVerne Coan\, clickers@eruuf.org  http
 s://eruuf.org/calendar/calendar-view/event/1080-clicking-for-a-cause.html
DTSTART:20150505T223000Z
DTEND:20150506T003000Z
LOCATION:Commons Room   (4907 Garrett Rd\, Durham\, NC 27707  )
SUMMARY:Clicking for a Cause
URL:https://eruuf.org/calendar/calendar-view/event/1080-clicking-for-a-caus
 e.html
END:VEVENT
END:VCALENDAR
