BEGIN:VCALENDAR
VERSION:2.0
PRODID:-//https://eruuf.org///NONSGML kigkonsult.se iCalcreator 2.10.15//
METHOD:PUBLISH
BEGIN:VEVENT
UID:20260424T103617UTC-6121VBT1bP@https://eruuf.org/
DTSTAMP:20260424T103617Z
DESCRIPTION:ERUUF CUUPs invites you to join us to celebrate Samhain\, also 
 known as Hallowmas\, on Halloween night at the ERUUF campus in front of th
 e CARE building.\nThe Wheel of the Year is turning to the time of year we 
 remember the dead and welcome them into our circle.\nPlease bring:\n1. A p
 hoto(s) or memento of someone who has passed on from our earthly realm. Th
 is can include animals.\n2. We will wear masks covering the nose and mouth
  the whole time\, and you are welcome to wear any additional mask or costu
 me that resonates with your persona to add to the mystery of this dark tim
 e. Dress warmly\, since we will remain outside\, although a bathroom is av
 ailable.\n3. Water bottle or other beverage for yourself. We will pour sma
 ll libations.\nRSVP nice but not required to Susan\, sbaylies@gmail.com.\n
 Blessed Be! https://eruuf.org/calendar/calendar-view/event/10813-eno-river
 -cuups-samhain-at-eruuf.html
DTSTART:20211031T223000Z
DTEND:20211101T000000Z
LOCATION:Outside Zone 4\, CARE Building Picnic Area ()
SUMMARY:Eno River CUUPS Samhain at ERUUF
URL:https://eruuf.org/calendar/calendar-view/event/10813-eno-river-cuups-sa
 mhain-at-eruuf.html
END:VEVENT
END:VCALENDAR
