BEGIN:VCALENDAR
VERSION:2.0
PRODID:-//https://eruuf.org///NONSGML kigkonsult.se iCalcreator 2.10.15//
METHOD:PUBLISH
BEGIN:VEVENT
UID:20260422T131043UTC-9826FI33p0@https://eruuf.org/
DTSTAMP:20260422T131043Z
DESCRIPTION:Freshly roasted Cafe San Ramón\, gorgeous crafts handmade in Sa
 n Ramón\, and chocolate bars will be for sale after the service on Decembe
 r 19. Just like the good old days! Questions or to learn more about the Si
 ster Communities of San Ramón\, Nicaragua project\, contact Lonna Harkrade
 r. https://eruuf.org/calendar/calendar-view/event/10859-sister-communities
 -of-san-ramon-coffee-crafts-and-chocolate-sale.html
DTSTART:20211219T170000Z
DTEND:20211219T180000Z
LOCATION:ERUUF Campus   (4907 Garrett Rd\, Durham\, NC 27707    )
SUMMARY:Sister Communities of San Ramon - Coffee\, Crafts\, and Chocolate S
 ale 
URL:https://eruuf.org/calendar/calendar-view/event/10859-sister-communities
 -of-san-ramon-coffee-crafts-and-chocolate-sale.html
END:VEVENT
END:VCALENDAR
